BEGIN:VCALENDAR
VERSION:2.0
PRODID:-//ChamberMaster//Event Calendar 2.0//EN
METHOD:PUBLISH
X-PUBLISHED-TTL:P3D
REFRESH-INTERVAL:P3D
CALSCALE:GREGORIAN
BEGIN:VEVENT
DTSTART;VALUE=DATE:20101117
DTEND;VALUE=DATE:20101122
TRANSP:TRANSPARENT
X-MICROSOFT-CDO-ALLDAYEVENT:TRUE
SUMMARY:Mainstreet Beatrice Christmas Open House
DESCRIPTION:Mainstreet Beatrice Christmas Open House\n\n	\n\n	Schedule of Classes\n\n	 \n\n	Wednesday\, Nov. 17\n\n	\n\n	10:30-11:00: Sunrise Bakery 419 Court- How to make peanut brittle.\n\n	4:00-4:45: Valentino's- 701 Court- Santa Paws is coming to town presented by the Beatrice Humane Society\n\n	4:30-5:00: Apple Studio 612 Court- Taking holiday pictures tips & tricks\n\n	5:00-5:30: In Line Healing 223 S 6th- Have a stress free holiday season\n\n	7:00-8:00: Community Players 412 Ella- How to audition workshop\n\n	In Store Promotion: Cutting Edge 322 Court- Buy 1 Matrix product\, Get 1 1/2 off. With purchase\, you will automatically be entered to win 12 Free Matrix products of your choice (excludes liter size)\n\n	\n\n	Thursday\, Nov. 18\n\n	\n\n	4:30-5:30: Old Home Bread Store 1501 N 7th- Beatrice Bakery Taste of the Holidays with free samples.\n\n	2:00-5:00: Yesterdays Lady 113 N 5th- Holiday & Cocktail dresses through the years\n\n	5:00-7:00: Pinnacle Bank 523 N 6th- Business After Hours\n\n	5:00-5:30: Nancy Gerdes\, CPA 707 Court #1- Tax Tips Q&A 2010\n\n	5:30-6:00: Home Instead 313 Court- Be a Santa to a Senior\n\n	                   Volunteer opportunities during the holidays\n\n	6:00-6:30: Jim's Carpet 308 Court- Designing a new look for the holiday\n\n	                    Designing your home with ceramic tile\n\n	6:00-6:30: Radio Shack 620 Court- GPS: Finding your way to a great Christmas\n\n	6:00-7:00: The Black Crow 405 Court- Holiday Wine Tasting ($25 per person)\n\n	\n\n	Friday\, Nov. 19\n\n	\n\n	10:00-10:30: Fletcher's Decorating 414 Court- Santa's favorite floor covering products\n\n	11:00-3:00: Dee's Hallmark 609 Court- Holiday Open House with cider and homemade cookies\n\n	12:00-1:00: Production Creek 911 Court- Match your message with your customers and employees\n\n	                    How to use promotional products to gain market share and gratitude this season\n\n	1:00-1:30: D'Andrea Real Estate 226 S 6th- Home inspections with radon\n\n	2:30-4:00: Steel Magnolia 218 S 6th- Foot De-Tox and nail art stamping\, and gels by Kay Miller\n\n	4:30-5:30: Old Home Bread Store 1501 N 7th- Beatrice Bakery Taste of the Holidays with samples\n\n	5:30-6:00: Pinnacle Bank 523 N 6th- Decorating a Victorian Christmas Tree and beautiful\n\n	                    centerpieces with Cheryl Wirth\n\n	\n\n	Saturday\, Nov. 20\n\n	\n\n	\n\n	9:00: Once Upon A Page 505 Court- 12 Hour Crop (Please RSVP)\n\n	9:00-9:30: Hills Home Furnishing 116 N 5th- Customize your home with special order upholstry\n\n	9:30-3:30: Quilt Stitches 516 Court- Cotton Theory\n\n	                    Reversible Table Runners $25 per person (Please RSVP)\n\n	10:00-10:30: Clabaugh Pharmacy 501 Court- Creating a holiday gift basket with Triple S Cattle & \n\n	                        decorating your home for the holidays with Linda Clabaugh\n\n	10:30-11:00: Schmitt's Clothing 422 Court- Neckwear hints & tie tips\n\n	11:00-11:30: S&S Sweeper 508 Court #2- Spot cleaning those things you spill during the holidays\n\n	11:30-12:00: Holly Theatre 615 Court- Tour the cinema\n\n	1:00-2:00: Valentino's 701 Court- How to make terrific toffee by Solveig\n\n	2:00-3:00: Lammel Plumbing 321 Court- Universal kitchen and bathroom planning\n\n	2:00-3:00: Old Home Breadd Store 1501 N 7th- Beatrice Bakery Taste of the Holidays with samples\n\n	\n\n	Sunday\, Nov. 21\n\n	\n\n	12:00-5:00: Brown's Shoe Fit 509 Court- Free foot screen & evaluation\n\n	1:00-4:00: Blue Rose Antiques 517 Court- Appraisal Fair\n\n	                    Bring in your holiday heirloom for appraisal\n\n	1:00-1:30: Weigels Jewelry 515 Court- How to put a little sparkle in your Holidays\n\n	                    Designing your own bead bracelet\n\n	1:30-2:00: Valentino's 701 Court- How to make a Christmas wreath by Shirleen's Creations\n\n	2:30-3:30: Quilt Stitches 516 Court- Decorating a Christmas bag ($2 per person)\n\n	2:30-4:00: Carnegie 218 N 5th- Holiday open house at the historic Carnegie building\n\n	3:00-4:00: Sherwin Williams 616 Court- Faux Impressions\n\n	4:30-7:00: Christ Episcopal Church 524 N 5th- Soup Dinner\n\n	4:30-5:15: Main Street Beatrice 218 N 5th- Mayors Christmas tree lighting reception at the Carnegie \n\n	                    building\n\n	5:15: Main Street Beatrice 218 N 5th- Mayors Christmas tree lighting at Charles Park\n\n	5:20: Gage County Courthouse 612 Lincoln- Homestead Harmonizers at the Gage County Courthouse\n\n	6:00: Gage County Courthouse 612 Lincoln- Courthouse Lighting
X-ALT-DESC;FMTTYPE=text/html:<p style="text-align: center">\n	<u><strong>Mainstreet Beatrice Christmas Open House<br />\n	<br />\n	Schedule of Classes</strong></u><br />\n	&nbsp\;</p>\n<p>\n	<strong>Wednesday\, Nov. 17</strong><br />\n	<br />\n	10:30-11:00: Sunrise Bakery 419 Court- How to make peanut brittle.<br />\n	4:00-4:45: Valentino&#39\;s- 701 Court- Santa Paws is coming to town presented by the Beatrice Humane Society<br />\n	4:30-5:00: Apple Studio 612 Court- Taking holiday pictures tips &amp\; tricks<br />\n	5:00-5:30: In Line Healing 223 S 6th- Have a stress free holiday season<br />\n	7:00-8:00: Community Players 412 Ella- How to audition workshop<br />\n	In Store Promotion: Cutting Edge 322 Court- Buy 1 Matrix product\, Get 1 1/2 off. With purchase\, you will automatically be entered to win 12 Free Matrix products of your choice (excludes liter size)<br />\n	<br />\n	<strong>Thursday\, Nov. 18</strong><br />\n	<br />\n	4:30-5:30: Old Home Bread Store 1501 N 7th- Beatrice Bakery Taste of the Holidays with free samples.<br />\n	2:00-5:00: Yesterdays Lady 113 N 5th- Holiday &amp\; Cocktail dresses through the years<br />\n	5:00-7:00: Pinnacle Bank 523 N 6th- Business After Hours<br />\n	5:00-5:30: Nancy Gerdes\, CPA 707 Court #1- Tax Tips Q&amp\;A 2010<br />\n	5:30-6:00: Home Instead 313 Court- Be a Santa to a Senior<br />\n	&nbsp\;&nbsp\;&nbsp\;&nbsp\;&nbsp\;&nbsp\;&nbsp\;&nbsp\;&nbsp\;&nbsp\;&nbsp\;&nbsp\;&nbsp\;&nbsp\;&nbsp\;&nbsp\;&nbsp\;&nbsp\; Volunteer opportunities during the holidays<br />\n	6:00-6:30: Jim&#39\;s Carpet 308 Court- Designing a new look for the holiday<br />\n	&nbsp\;&nbsp\;&nbsp\;&nbsp\;&nbsp\;&nbsp\;&nbsp\;&nbsp\;&nbsp\;&nbsp\;&nbsp\;&nbsp\;&nbsp\;&nbsp\;&nbsp\;&nbsp\;&nbsp\;&nbsp\;&nbsp\;&nbsp\;Designing your home with ceramic tile<br />\n	6:00-6:30: Radio Shack 620 Court- GPS: Finding your way to a great Christmas<br />\n	6:00-7:00: The Black Crow 405 Court- Holiday Wine Tasting ($25 per person)<br />\n	<br />\n	<strong>Friday\, Nov. 19</strong><br />\n	<br />\n	10:00-10:30: Fletcher&#39\;s Decorating 414 Court- Santa&#39\;s favorite floor covering products<br />\n	11:00-3:00: Dee&#39\;s Hallmark 609 Court- Holiday Open House with cider and homemade cookies<br />\n	12:00-1:00: Production Creek 911 Court- Match your message with your customers and employees<br />\n	&nbsp\;&nbsp\;&nbsp\;&nbsp\;&nbsp\;&nbsp\;&nbsp\;&nbsp\;&nbsp\;&nbsp\;&nbsp\;&nbsp\;&nbsp\;&nbsp\;&nbsp\;&nbsp\;&nbsp\;&nbsp\;&nbsp\;&nbsp\;How to use promotional products to gain market share and gratitude this season<br />\n	1:00-1:30: D&#39\;Andrea Real Estate 226 S 6th- Home inspections with radon<br />\n	2:30-4:00: Steel Magnolia 218 S 6th- Foot De-Tox and nail art stamping\, and gels by Kay Miller<br />\n	4:30-5:30: Old Home Bread Store 1501 N 7th- Beatrice Bakery Taste of the Holidays with samples<br />\n	5:30-6:00: Pinnacle Bank 523 N 6th- Decorating a Victorian Christmas Tree and beautiful<br />\n	&nbsp\;&nbsp\;&nbsp\;&nbsp\;&nbsp\;&nbsp\;&nbsp\;&nbsp\;&nbsp\;&nbsp\;&nbsp\;&nbsp\;&nbsp\;&nbsp\;&nbsp\;&nbsp\;&nbsp\;&nbsp\;&nbsp\;&nbsp\;centerpieces with Cheryl Wirth<br />\n	<br />\n	<strong>Saturday\, Nov. 20</strong><br />\n	<br />\n	<br />\n	9:00: Once Upon A Page 505 Court- 12 Hour Crop (Please RSVP)<br />\n	9:00-9:30: Hills Home Furnishing 116 N 5th- Customize your home with special order upholstry<br />\n	9:30-3:30: Quilt Stitches 516 Court- Cotton Theory<br />\n	&nbsp\;&nbsp\;&nbsp\;&nbsp\;&nbsp\;&nbsp\;&nbsp\;&nbsp\;&nbsp\;&nbsp\;&nbsp\;&nbsp\;&nbsp\;&nbsp\;&nbsp\;&nbsp\;&nbsp\;&nbsp\;&nbsp\;&nbsp\;Reversible Table Runners $25 per person (Please RSVP)<br />\n	10:00-10:30: Clabaugh Pharmacy 501 Court- Creating a holiday gift basket with Triple S Cattle &amp\;&nbsp\;<br />\n	&nbsp\;&nbsp\;&nbsp\;&nbsp\;&nbsp\;&nbsp\;&nbsp\;&nbsp\;&nbsp\;&nbsp\;&nbsp\;&nbsp\;&nbsp\;&nbsp\;&nbsp\;&nbsp\;&nbsp\;&nbsp\;&nbsp\;&nbsp\;&nbsp\;&nbsp\;&nbsp\;&nbsp\;decorating your home for the holidays with Linda Clabaugh<br />\n	10:30-11:00: Schmitt&#39\;s Clothing 422 Court- Neckwear hints &amp\; tie tips<br />\n	11:00-11:30: S&amp\;S Sweeper 508 Court #2- Spot cleaning those things you spill during the holidays<br />\n	11:30-12:00: Holly Theatre 615 Court- Tour the cinema<br />\n	1:00-2:00: Valentino&#39\;s 701 Court- How to make terrific toffee by Solveig<br />\n	2:00-3:00: Lammel Plumbing 321 Court- Universal kitchen and bathroom planning<br />\n	2:00-3:00: Old Home Breadd Store 1501 N 7th- Beatrice Bakery Taste of the Holidays with samples<br />\n	<br />\n	<strong>Sunday\, Nov. 21</strong><br />\n	<br />\n	12:00-5:00: Brown&#39\;s Shoe Fit 509 Court- Free foot screen &amp\; evaluation<br />\n	1:00-4:00: Blue Rose Antiques 517 Court- Appraisal Fair<br />\n	&nbsp\;&nbsp\;&nbsp\;&nbsp\;&nbsp\;&nbsp\;&nbsp\;&nbsp\;&nbsp\;&nbsp\;&nbsp\;&nbsp\;&nbsp\;&nbsp\;&nbsp\;&nbsp\;&nbsp\;&nbsp\;&nbsp\;&nbsp\;Bring in your holiday heirloom for appraisal<br />\n	1:00-1:30: Weigels Jewelry 515 Court- How to put a little sparkle in your Holidays<br />\n	&nbsp\;&nbsp\;&nbsp\;&nbsp\;&nbsp\;&nbsp\;&nbsp\;&nbsp\;&nbsp\;&nbsp\;&nbsp\;&nbsp\;&nbsp\;&nbsp\;&nbsp\;&nbsp\;&nbsp\;&nbsp\;&nbsp\;&nbsp\;Designing your own bead bracelet<br />\n	1:30-2:00: Valentino&#39\;s 701 Court- How to make a Christmas wreath by Shirleen&#39\;s Creations<br />\n	2:30-3:30: Quilt Stitches 516 Court- Decorating a Christmas bag ($2 per person)<br />\n	2:30-4:00: Carnegie 218 N 5th- Holiday open house at the historic Carnegie building<br />\n	3:00-4:00: Sherwin Williams 616 Court- Faux Impressions<br />\n	4:30-7:00: Christ Episcopal Church 524 N 5th- Soup Dinner<br />\n	4:30-5:15: Main Street Beatrice 218 N 5th- Mayors Christmas tree lighting reception at the Carnegie&nbsp\;<br />\n	&nbsp\;&nbsp\;&nbsp\;&nbsp\;&nbsp\;&nbsp\;&nbsp\;&nbsp\;&nbsp\;&nbsp\;&nbsp\;&nbsp\;&nbsp\;&nbsp\;&nbsp\;&nbsp\;&nbsp\;&nbsp\;&nbsp\;&nbsp\;building<br />\n	5:15: Main Street Beatrice 218 N 5th- Mayors Christmas tree lighting at Charles Park<br />\n	5:20: Gage County Courthouse 612 Lincoln- Homestead Harmonizers at the Gage County Courthouse<br />\n	6:00: Gage County Courthouse 612 Lincoln- Courthouse Lighting<br />\n	<br />\n	&nbsp\;&nbsp\;&nbsp\;&nbsp\;&nbsp\;&nbsp\;&nbsp\;&nbsp\;&nbsp\;&nbsp\;&nbsp\;&nbsp\;&nbsp\;&nbsp\;</p>\n<p style="text-align: center">\n	<br />\n	<br />\n	&nbsp\;</p>\n
LOCATION:
UID:e.41.2794
SEQUENCE:3
DTSTAMP:20260425T032937Z
URL:https://business.beatricechamber.com/events/details/mainstreet-beatrice-christmas-open-house-11-17-2010-2794
END:VEVENT

END:VCALENDAR
