BEGIN:VCALENDAR
VERSION:2.0
PRODID:-//ChamberMaster//Event Calendar 2.0//EN
METHOD:PUBLISH
X-PUBLISHED-TTL:P3D
REFRESH-INTERVAL:P3D
CALSCALE:GREGORIAN
BEGIN:VEVENT
DTSTART:20091128T180000Z
DTEND:20091128T200000Z
X-MICROSOFT-CDO-ALLDAYEVENT:FALSE
SUMMARY:Mainstreet - Santa Arrives Downtown
DESCRIPTION:Join us downtown this holiday season for Merry Main Street Santa arrives downtown! Talk to Santa at Santa's Workshop from Noon - 2:00 pmSanta's Workshop is at 505 Couirt St. All workshops feature Santa or his helpers plus complimentary games\, prizes\, drawings\, treats\, beverages\, and fun!
X-ALT-DESC;FMTTYPE=text/html:<div>Join us downtown this holiday season for Merry Main Street</div><div>&nbsp\;</div><div>Santa arrives downtown!&nbsp\;</div><div>Talk to Santa at Santa's Workshop from Noon - 2:00 pm</div><div>Santa's Workshop is at 505 Couirt St.</div><div>&nbsp\;</div><div>All workshops feature Santa or his helpers plus complimentary games\, prizes\, drawings\, treats\, beverages\, and fun!</div>
LOCATION:
UID:e.41.1531
SEQUENCE:3
DTSTAMP:20260425T205101Z
URL:https://business.beatricechamber.com/events/details/mainstreet-santa-arrives-downtown-11-28-2009-1531
END:VEVENT

END:VCALENDAR
