BEGIN:VCALENDAR
VERSION:2.0
PRODID:-//ChamberMaster//Event Calendar 2.0//EN
METHOD:PUBLISH
X-PUBLISHED-TTL:P3D
REFRESH-INTERVAL:P3D
CALSCALE:GREGORIAN
BEGIN:VEVENT
DTSTART:20100511T130000Z
DTEND:20100511T143000Z
X-MICROSOFT-CDO-ALLDAYEVENT:FALSE
SUMMARY:Marketing Fire-power Seminar
DESCRIPTION:Marketing Fire-Power - Jeff Dostal A Marketing and Advertising Seminar Your Don't Want To Miss! This seminar is for you...if you have difficulty knowing what to say in your advertisingThis seminar is for you...if you are struggling to improve your business in this economyThis seminar is for you...if you are interested in attracting more customers to your business. Tuesday\, May 11\, 20108:00 am - 9:30 amCity Auditorium Conference Room Call Beatrice Area Chamber of Commerce for more information!  223-2338
X-ALT-DESC;FMTTYPE=text/html:<div>Marketing Fire-Power - Jeff Dostal</div><div>&nbsp\;</div><div>A Marketing and Advertising Seminar Your Don't Want To Miss!</div><div>&nbsp\;</div><div>This seminar is for you...if you have difficulty knowing what to say in your advertising</div><div>This seminar is for you...if you are struggling to improve your business in this economy</div><div>This seminar is for you...if you are interested in attracting more customers to your business.</div><div>&nbsp\;</div><div>Tuesday\, May 11\, 2010</div><div>8:00 am - 9:30 am</div><div>City Auditorium Conference Room</div><div>&nbsp\;</div><div>Call Beatrice Area Chamber of Commerce for more information!&nbsp\; 223-2338</div>
LOCATION:
UID:e.41.1947
SEQUENCE:3
DTSTAMP:20260425T124036Z
URL:https://business.beatricechamber.com/events/details/marketing-fire-power-seminar-05-11-2010-1947
END:VEVENT

END:VCALENDAR
