BEGIN:VCALENDAR
VERSION:2.0
PRODID:-//ChamberMaster//Event Calendar 2.0//EN
METHOD:PUBLISH
X-PUBLISHED-TTL:P3D
REFRESH-INTERVAL:P3D
CALSCALE:GREGORIAN
BEGIN:VEVENT
DTSTART:20120916T003000Z
DTEND:20120916T003000Z
X-MICROSOFT-CDO-ALLDAYEVENT:FALSE
SUMMARY:"Marvelous Wonderettes"
DESCRIPTION:Come enjoy the Community Players Theatre as they present\, " Marvelous Wonderettes".
X-ALT-DESC;FMTTYPE=text/html:Come enjoy the Community Players Theatre as they present\, &quot\; Marvelous Wonderettes&quot\;.
LOCATION:412 Ella St. Beatrice\, NE 402-228-1801
UID:e.41.6611
SEQUENCE:3
DTSTAMP:20260422T090438Z
URL:https://business.beatricechamber.com/events/details/marvelous-wonderettes-09-15-2012-6611
END:VEVENT

END:VCALENDAR
