BEGIN:VCALENDAR
VERSION:2.0
PRODID:-//ChamberMaster//Event Calendar 2.0//EN
METHOD:PUBLISH
X-PUBLISHED-TTL:P3D
REFRESH-INTERVAL:P3D
CALSCALE:GREGORIAN
BEGIN:VEVENT
DTSTART;VALUE=DATE:20110419
DTEND;VALUE=DATE:20110420
TRANSP:TRANSPARENT
X-MICROSOFT-CDO-ALLDAYEVENT:TRUE
SUMMARY:Mayor's Prayer Breakfast
DESCRIPTION:42nd Annual Mayors Prayer Breakfast\n\n\n	Sponsored by the Beatrice Rotary Club\nPresents Aaron Davis\n\n \n\nTueday\, April 19th \n\n6:45 AM\n\nHoliday Inn Express\n\n4005 N 6th St\n\n \n\n**TICKETS: $7.50each    \n\nAvailable at Beatrice Area Chamber of Commerce\n\n205 N 4th Street\, Beatrice\, NE
X-ALT-DESC;FMTTYPE=text/html:<strong><span style="font-size: 18pt"><span style="color: #055570"><span style="font-family: arial narrow\, sans-serif">42nd Annual Mayors Prayer Breakfast</span></span></span></strong><br />\n<h3 style="page-break-after: avoid">\n	<span style="font-size: 9pt"><span style="color: #17950a"><span style="font-family: arial\, sans-serif">Sponsored by the </span></span></span><span style="font-size: 10pt"><span style="color: #17950a"><span style="font-family: arial narrow\, sans-serif">Beatrice Rotary Club</span></span></span></h3>\n<span style="font-size: medium"><span style="font-family: times new roman"><strong><span style="color: #17950a">Presents Aaron Davis</span></strong></span></span><br />\n&nbsp\;<br />\n<strong><span style="color: #17950a"><span style="font-family: arial\, sans-serif"><span style="font-size: medium">Tueday\, April 19th </span></span></span></strong><br />\n<strong><span style="color: #17950a"><span style="font-family: arial\, sans-serif"><span style="font-size: medium">6:45 AM</span></span></span></strong><br />\n<strong><span style="color: #17950a"><span style="font-family: arial\, sans-serif"><span style="font-size: medium">Holiday Inn Express</span></span></span></strong><br />\n<strong><span style="color: #17950a"><span style="font-family: arial\, sans-serif"><span style="font-size: medium">4005 N 6th St</span></span></span></strong><br />\n&nbsp\;<br />\n<strong><span style="font-size: 11pt"><span style="color: #096079"><span style="font-family: arial\, sans-serif">**TICKETS: </span></span></span></strong><strong><span style="font-size: 14pt"><span style="color: #096079"><span style="font-family: arial\, sans-serif">$7.50</span></span></span></strong><strong><span style="font-size: 11pt"><span style="color: #096079"><span style="font-family: arial\, sans-serif">each&nbsp\;&nbsp\;&nbsp\; </span></span></span></strong><br />\n<strong><span style="font-size: 11pt"><span style="color: #096079"><span style="font-family: arial\, sans-serif"><span face="">Available at Beatrice Area Chamber of Commerce<br />\n205 N 4th Street\, Beatrice\, NE</span></span></span></span></strong>
LOCATION:
UID:e.41.4565
SEQUENCE:3
DTSTAMP:20260424T194955Z
URL:https://business.beatricechamber.com/events/details/mayor-s-prayer-breakfast-04-19-2011-4565
END:VEVENT

END:VCALENDAR
