BEGIN:VCALENDAR
VERSION:2.0
PRODID:-//ChamberMaster//Event Calendar 2.0//EN
METHOD:PUBLISH
X-PUBLISHED-TTL:P3D
REFRESH-INTERVAL:P3D
CALSCALE:GREGORIAN
BEGIN:VEVENT
DTSTART;VALUE=DATE:20100330
DTEND;VALUE=DATE:20100331
TRANSP:TRANSPARENT
X-MICROSOFT-CDO-ALLDAYEVENT:TRUE
SUMMARY:Mayor's Prayer Breakfast 2010
DESCRIPTION:Beatrice's 2010 Mayor's Prayer Breakfast Tuesday\, March 30\, 20106:45 a.m.Holiday Inn Express in Beatrice Featuring speaker Stephanie Grace Whitson\, author and motivational speaker Tickets for the breakfast are $7.50 and can be purchased in advance from any Rotary Club member or at Security First Bank\, Pinnacle bank\, Jones Insurance Agency\, Clabaugh Pharmacy and at Beatrice Area Chamber of Commerce. Proceeds benefit Rotary Club's scholarship fund\, Veterans Park\, among other organizations.
X-ALT-DESC;FMTTYPE=text/html:<div>Beatrice's 2010 Mayor's Prayer Breakfast</div><div>&nbsp\;</div><div>Tuesday\, March 30\, 2010</div><div>6:45 a.m.</div><div>Holiday Inn Express in Beatrice</div><div>&nbsp\;</div><div>Featuring speaker Stephanie Grace Whitson\, author and motivational speaker</div><div>&nbsp\;</div><div>Tickets for the breakfast are $7.50 and can be purchased in advance from any Rotary Club member or at Security First Bank\, Pinnacle bank\, Jones Insurance Agency\, Clabaugh Pharmacy and at Beatrice Area Chamber of Commerce.</div><div>&nbsp\;</div><div>Proceeds benefit Rotary Club's scholarship fund\, Veterans Park\, among other organizations.</div>
LOCATION:
UID:e.41.1944
SEQUENCE:3
DTSTAMP:20260425T152937Z
URL:https://business.beatricechamber.com/events/details/mayor-s-prayer-breakfast-2010-03-30-2010-1944
END:VEVENT

END:VCALENDAR
