BEGIN:VCALENDAR
VERSION:2.0
PRODID:-//ChamberMaster//Event Calendar 2.0//EN
METHOD:PUBLISH
X-PUBLISHED-TTL:P3D
REFRESH-INTERVAL:P3D
CALSCALE:GREGORIAN
BEGIN:VEVENT
DTSTART;VALUE=DATE:20101029
DTEND;VALUE=DATE:20101105
TRANSP:TRANSPARENT
X-MICROSOFT-CDO-ALLDAYEVENT:TRUE
SUMMARY:McDonald's Grand Reopening
DESCRIPTION:McDonald's Grand Reopening\n\n\n\nFriday \, Oct 29: Extra FREE Happy Meal Toy with the purchase of a Happy Meal.\n\n\n\nSunday\, Oct 31: Kids come in costume and receive a FREE pie or Small Fry!\n\n\n\nMonday\, Nov. 1\, 1-3 PM: Live KUTT Remote\n\n\n\nWednesday\, Nov. 3\, 4-6 PM: Live KWBE Remote\n\n5:30-7 PM: Ronald McDonald and his Magic Show\n\nBring your camera!\n\n\n\nThursday\, Nov. 4\, 5-8 PM:\n\n20% of all sales will be donated to the Prairie Playground Rebuild Project\n\n \n\nRegister to win- Mountain Bike with Helmet\, iPod\, or Happy Meal Display
X-ALT-DESC;FMTTYPE=text/html:<strong><span style="font-size: 14px">McDonald&#39\;s Grand Reopening</span></strong><br />\n<br />\nFriday \, Oct 29: Extra FREE Happy Meal Toy with the purchase of a Happy Meal.<br />\n<br />\nSunday\, Oct 31: Kids come in costume and receive a FREE pie or Small Fry!<br />\n<br />\nMonday\, Nov. 1\, 1-3 PM: Live KUTT Remote<br />\n<br />\nWednesday\, Nov. 3\, 4-6 PM: Live KWBE Remote<br />\n5:30-7 PM: Ronald McDonald and his Magic Show<br />\nBring your camera!<br />\n<br />\n<strong>Thursday\, Nov. 4\, 5-8 PM:<br />\n20% of all sales will be donated to the Prairie Playground Rebuild Project<br />\n&nbsp\;</strong><br />\nRegister to win- Mountain Bike with Helmet\, iPod\, or Happy Meal Display
LOCATION:
UID:e.41.2746
SEQUENCE:3
DTSTAMP:20260425T032738Z
URL:https://business.beatricechamber.com/events/details/mcdonald-s-grand-reopening-10-29-2010-2746
END:VEVENT

END:VCALENDAR
