BEGIN:VCALENDAR
VERSION:2.0
PRODID:-//ChamberMaster//Event Calendar 2.0//EN
METHOD:PUBLISH
X-PUBLISHED-TTL:P3D
REFRESH-INTERVAL:P3D
CALSCALE:GREGORIAN
BEGIN:VEVENT
DTSTART;VALUE=DATE:20100223
DTEND;VALUE=DATE:20100224
TRANSP:TRANSPARENT
X-MICROSOFT-CDO-ALLDAYEVENT:TRUE
SUMMARY:McIntosh Ministry at the Homestead House
DESCRIPTION:McIntosh Ministry at the Homestead HouseTuesday\, February 23\, 20101:30 p.m. 2300 Lincoln St.\,Beatrice\, NE (handicap accessible) Garry and Janet McIntosh from DeWitt will present Southern gospel-style music.  Refreshments. Contact Lori Johnson\, 402-223-2387 or ljohnson@alcco.com
X-ALT-DESC;FMTTYPE=text/html:<div>McIntosh Ministry at the Homestead House</div><div>Tuesday\, February 23\, 2010</div><div>1:30 p.m.</div><div>&nbsp\;</div><div>2300 Lincoln St.\,</div><div>Beatrice\, NE (handicap accessible)</div><div>&nbsp\;</div><div>Garry and Janet McIntosh from DeWitt will present Southern gospel-style music.&nbsp\; Refreshments.</div><div>&nbsp\;</div><div>Contact Lori Johnson\, 402-223-2387 or <a href="mailto:ljohnson@alcco.com">ljohnson@alcco.com</a></div>
LOCATION:
UID:e.41.1659
SEQUENCE:3
DTSTAMP:20260425T165909Z
URL:https://business.beatricechamber.com/events/details/mcintosh-ministry-at-the-homestead-house-02-23-2010-1659
END:VEVENT

END:VCALENDAR
