BEGIN:VCALENDAR
VERSION:2.0
PRODID:-//ChamberMaster//Event Calendar 2.0//EN
METHOD:PUBLISH
X-PUBLISHED-TTL:P3D
REFRESH-INTERVAL:P3D
CALSCALE:GREGORIAN
BEGIN:VEVENT
DTSTART:20101207T010000Z
DTEND:20101207T010000Z
X-MICROSOFT-CDO-ALLDAYEVENT:FALSE
SUMMARY:Medical Transcriptionist 1 Hour Seminar
DESCRIPTION:Free One Hour Seminar:\n\n\n\nBe A Medical Transcriptionist\n\n\n\nMonday December 6th 7PM\n\n\n\nLearn to transcribe medical reports dictated by doctors!\n\n\n\nHoliday Inn Express\n\n4005 N. 6th St.\, Beatrice\, NE
X-ALT-DESC;FMTTYPE=text/html:<strong><span style="font-size: 14px\;">Free One Hour Seminar:</span></strong><br />\n<br />\nBe A Medical Transcriptionist<br />\n<br />\nMonday December 6th 7PM<br />\n<br />\nLearn to transcribe medical reports dictated by doctors!<br />\n<br />\nHoliday Inn Express<br />\n4005 N. 6th St.\, Beatrice\, NE<br />\n
LOCATION:
UID:e.41.2889
SEQUENCE:3
DTSTAMP:20260425T014531Z
URL:https://business.beatricechamber.com/events/details/medical-transcriptionist-1-hour-seminar-12-06-2010-2889
END:VEVENT

END:VCALENDAR
