BEGIN:VCALENDAR
VERSION:2.0
PRODID:-//ChamberMaster//Event Calendar 2.0//EN
METHOD:PUBLISH
X-PUBLISHED-TTL:P3D
REFRESH-INTERVAL:P3D
CALSCALE:GREGORIAN
BEGIN:VEVENT
DTSTART:20101202T150000Z
DTEND:20101202T210000Z
X-MICROSOFT-CDO-ALLDAYEVENT:FALSE
SUMMARY:Medicare Part D "Shop & Compare" Event
DESCRIPTION:Are you new to Medicare\, and need to sign up for prescription drug coverage?\n\n\n\nDo you want to change your Medicare prescription program?\n\n\n\nDo you need help paying for your prescriptions?\n\n\n\nThe Nebraska Senior Health Insurance Information Program provides free\, unbiased information to people with Medicare. SHIIP counselors do not sell products\, nor do they endorse any company or plan of insurance.\n\n\n\nThurs\, Dec. 2- 9 am to 3pm\n\nBeatrice Public Library \, 100 N. 16th Street\n\n\n\nAppointment required!\n\n\n\nTo schedule an appointment or for more information\, call 1-800-234-7119 or 402-471-2841
X-ALT-DESC;FMTTYPE=text/html:<span _fck_bookmark="1" id="cke_bm_73S" style="display: none">Are you new to Medicare\, and need to sign up for prescription drug coverage?</span><br />\n<br />\n<span style="font-size: 12px">Do you want to change your Medicare prescription program?<br />\n<br />\nDo you need help paying for your prescriptions?</span><br />\n<br />\nThe Nebraska Senior Health Insurance Information Program provides free\, unbiased information to people with Medicare. SHIIP counselors do not sell products\, nor do they endorse any company or plan of insurance.<br />\n<br />\n<strong>Thurs\, Dec. 2- 9 am&nbsp\;to 3pm<br />\nBeatrice Public Library \, 100 N. 16th Street<br />\n<br />\nAppointment required!<br />\n<br />\nTo schedule&nbsp\;an appointment or for more information\, call 1-800-234-7119 or 402-471-2841</strong><br />\n<br />\n
LOCATION:
UID:e.41.2718
SEQUENCE:3
DTSTAMP:20260425T014418Z
URL:https://business.beatricechamber.com/events/details/medicare-part-d-shop-compare-event-12-02-2010-2718
END:VEVENT

END:VCALENDAR
