BEGIN:VCALENDAR
VERSION:2.0
PRODID:-//ChamberMaster//Event Calendar 2.0//EN
METHOD:PUBLISH
X-PUBLISHED-TTL:P3D
REFRESH-INTERVAL:P3D
CALSCALE:GREGORIAN
BEGIN:VEVENT
DTSTART:20101122T150000Z
DTEND:20101122T210000Z
X-MICROSOFT-CDO-ALLDAYEVENT:FALSE
SUMMARY:Medicare Part D "Shop & Compare Events
DESCRIPTION:Are you new to Medicare\, and need to sign up for prescription drug coverage?\n\n	\n\n	Do you want to change your Medicare prescription program?\n\n	\n\n	Do you need help paying for your prescriptions?\n\n	\n\n	The Nebraska Senior Health Insurance Information Program provides free\, unbiased information to people with Medicare. SHIIP counselors do not sell products\, nor do they endorse any company or plan of insurance.\n\n	\n\n	Mon\, Nov. 22 - 9 am to 3pm\n\n	Beatrice Public Library \, 100 N. 16th Street\n\n	\n\n	Appointment required!\n\n	\n\n	To schedule an appointment or for more information\, call 1-800-234-7119 or 402-471-2841
X-ALT-DESC;FMTTYPE=text/html:<p>\n	<span _fck_bookmark="1" id="cke_bm_73S" style="display: none">Are you new to Medicare\, and need to sign up for prescription drug coverage?</span><br />\n	<br />\n	<span style="font-size: 12px">Do you want to change your Medicare prescription program?<br />\n	<br />\n	Do you need help paying for your prescriptions?</span><br />\n	<br />\n	The Nebraska Senior Health Insurance Information Program provides free\, unbiased information to people with Medicare. SHIIP counselors do not sell products\, nor do they endorse any company or plan of insurance.<br />\n	<br />\n	<strong>Mon\, Nov. 22 - 9 am&nbsp\;to 3pm<br />\n	Beatrice Public Library \, 100 N. 16th Street<br />\n	<br />\n	Appointment required!<br />\n	<br />\n	To schedule&nbsp\;an appointment or for more information\, call 1-800-234-7119 or 402-471-2841</strong><br />\n	<br />\n	<span _fck_bookmark="1" id="cke_bm_73E" style="display: none">&nbsp\;</span></p>\n
LOCATION:
UID:e.41.2717
SEQUENCE:3
DTSTAMP:20260425T033034Z
URL:https://business.beatricechamber.com/events/details/medicare-part-d-shop-compare-events-11-22-2010-2717
END:VEVENT

END:VCALENDAR
