BEGIN:VCALENDAR
VERSION:2.0
PRODID:-//ChamberMaster//Event Calendar 2.0//EN
METHOD:PUBLISH
X-PUBLISHED-TTL:P3D
REFRESH-INTERVAL:P3D
CALSCALE:GREGORIAN
BEGIN:VEVENT
DTSTART;VALUE=DATE:20110314
DTEND;VALUE=DATE:20110315
TRANSP:TRANSPARENT
X-MICROSOFT-CDO-ALLDAYEVENT:TRUE
SUMMARY:Meeting of the board of ESU No. 5
DESCRIPTION:The Board of Educational Service Unit No. 5 will meet in regular session at 7 p.m. at Educational Service Unit No. 5\, 900 W. Court St.\, Beatrice
X-ALT-DESC;FMTTYPE=text/html:The Board of Educational Service Unit No. 5 will meet in regular session at 7 p.m. at Educational Service Unit No. 5\, 900 W. Court St.\, Beatrice
LOCATION:
UID:e.41.4224
SEQUENCE:3
DTSTAMP:20260424T212927Z
URL:https://business.beatricechamber.com/events/details/meeting-of-the-board-of-esu-no-5-03-14-2011-4224
END:VEVENT

END:VCALENDAR
