BEGIN:VCALENDAR
VERSION:2.0
PRODID:-//ChamberMaster//Event Calendar 2.0//EN
METHOD:PUBLISH
X-PUBLISHED-TTL:P3D
REFRESH-INTERVAL:P3D
CALSCALE:GREGORIAN
BEGIN:VEVENT
DTSTART;VALUE=DATE:20110430
DTEND;VALUE=DATE:20110501
TRANSP:TRANSPARENT
X-MICROSOFT-CDO-ALLDAYEVENT:TRUE
SUMMARY:Memorial Dedication
DESCRIPTION:Wymore Volunteer Fire & Rescue\n\n	host Memorial Dedication\n\n	\n\n	Saturday April 30\n\n	5 pm\n\n	\n\n	In Front of the Wymore Fire Hall\, the memorial is in honor of Jeremy Wach\, who gave his life in the line of duty serving the citizens of Wymore and Gage County.  Jeremy lost his life fighting a house fire on November 5\, 2007.  Jeremy also served as a deputy for the Gage County Sheriff's Office.\n\n	\n\n	Following the memorial dedication\, the Wymore Volunteer Fire & Rescue will host a ham dinner.  Proceeds will be used to host the 2012 Nebraska Sate Volunteer Firefighter Association Fallen Firefighters Memorial service to be held in Wymore.  A suggested $7 donation is being accepted for the meal.  There will also be a raffle\, winners need not be present to win. \n\n	 \n\n	For more information call Lori Wolf at 402-239-5656\, Gordon Michaelis at 402-520-6450\, or Mark Meints at 402-645-3945.
X-ALT-DESC;FMTTYPE=text/html:<p>\n	Wymore Volunteer Fire &amp\; Rescue<br />\n	host Memorial Dedication<br />\n	<br />\n	Saturday April 30<br />\n	5 pm<br />\n	<br />\n	In Front of the Wymore Fire Hall\, the memorial is in honor of Jeremy Wach\, who gave his life in the line of duty serving the citizens of Wymore and Gage County.&nbsp\; Jeremy lost his life fighting a house fire on November 5\, 2007.&nbsp\; Jeremy also served as a deputy for the Gage County Sheriff&#39\;s Office.<br />\n	<br />\n	Following the memorial dedication\, the Wymore Volunteer Fire &amp\; Rescue will host a ham dinner.&nbsp\; Proceeds will be used to host the 2012 Nebraska Sate Volunteer Firefighter Association Fallen Firefighters Memorial service to be held in Wymore.&nbsp\; A suggested $7 donation is being accepted for the meal.&nbsp\; There will also be a raffle\, winners need not be present to win.&nbsp\;<br />\n	&nbsp\;</p>\n<p>\n	For more information call Lori Wolf at 402-239-5656\, Gordon Michaelis at 402-520-6450\, or Mark Meints at 402-645-3945.</p>\n
LOCATION:
UID:e.41.4588
SEQUENCE:3
DTSTAMP:20260424T194942Z
URL:https://business.beatricechamber.com/events/details/memorial-dedication-04-30-2011-4588
END:VEVENT

END:VCALENDAR
