BEGIN:VCALENDAR
VERSION:2.0
PRODID:-//ChamberMaster//Event Calendar 2.0//EN
METHOD:PUBLISH
X-PUBLISHED-TTL:P3D
REFRESH-INTERVAL:P3D
CALSCALE:GREGORIAN
BEGIN:VEVENT
DTSTART;VALUE=DATE:20101204
DTEND;VALUE=DATE:20101220
TRANSP:TRANSPARENT
X-MICROSOFT-CDO-ALLDAYEVENT:TRUE
SUMMARY:"Memories of Christmas Past" Toy Display
DESCRIPTION:Annual "Memories of Christmas Past" toy and collectibles display:\n\n\n\nOpens today today at the Beatrice Public Library\, 16th and Court. (Continues through December 19th)\n\n\n\nCelebrating the 95th Anniversary of Raggedy Ann and Andy. Library hours: 9 a.m.- 8 p.m. Monday through Thursday. 9 a.m.-6 p.m. Friday and Saturday. 2-5 p.m. Sundays.
X-ALT-DESC;FMTTYPE=text/html:<strong><span style="font-size: 14px\;">Annual &quot\;Memories of Christmas Past&quot\; toy and collectibles display:<br />\n<br />\n</span></strong>Opens today today at the Beatrice Public Library\, 16th and Court. (Continues through December 19th)<br />\n<br />\nCelebrating the 95th Anniversary of Raggedy Ann and Andy. Library hours: 9 a.m.- 8 p.m. Monday through Thursday. 9 a.m.-6 p.m. Friday and Saturday. 2-5 p.m. Sundays.<br />\n
LOCATION:
UID:e.41.2869
SEQUENCE:3
DTSTAMP:20260425T015520Z
URL:https://business.beatricechamber.com/events/details/memories-of-christmas-past-toy-display-12-04-2010-2869
END:VEVENT

END:VCALENDAR
