BEGIN:VCALENDAR
VERSION:2.0
PRODID:-//ChamberMaster//Event Calendar 2.0//EN
METHOD:PUBLISH
X-PUBLISHED-TTL:P3D
REFRESH-INTERVAL:P3D
CALSCALE:GREGORIAN
BEGIN:VEVENT
DTSTART:20091013T230000Z
DTEND:20091014T000000Z
X-MICROSOFT-CDO-ALLDAYEVENT:FALSE
SUMMARY:Memory Walk for Alzheimers
DESCRIPTION:Beatrice Memory Walk 2009Tuesday Evening\, October 13Chautauqua Park in BeatriceProceeds designated ot Alzheimer's Association Registration for walk is at 5:00 pmWalk starts at 6:00 pm To register to walk or to donate online\, visit www.alz.org/greatplains. For more information\, contact Natasha Oden at 223-2311.
X-ALT-DESC;FMTTYPE=text/html:<div><strong>Beatrice Memory Walk 2009</strong></div><div>Tuesday Evening\, October 13</div><div>Chautauqua Park in Beatrice</div><div>Proceeds designated ot Alzheimer's Association</div><div>&nbsp\;</div><div>Registration for walk is at 5:00 pm</div><div>Walk starts at 6:00 pm</div><div>&nbsp\;</div><div>To register to walk or to donate online\, visit <a href="http://www.alz.org/greatplains">www.alz.org/greatplains</a>.</div><div>&nbsp\;</div><div>For more information\, contact Natasha Oden at 223-2311.</div>
LOCATION:
UID:e.41.1420
SEQUENCE:3
DTSTAMP:20260425T221441Z
URL:https://business.beatricechamber.com/events/details/memory-walk-for-alzheimers-10-13-2009-1420
END:VEVENT

END:VCALENDAR
