BEGIN:VCALENDAR
VERSION:2.0
PRODID:-//ChamberMaster//Event Calendar 2.0//EN
METHOD:PUBLISH
X-PUBLISHED-TTL:P3D
REFRESH-INTERVAL:P3D
CALSCALE:GREGORIAN
BEGIN:VEVENT
DTSTART:20110308T173000Z
DTEND:20110308T190000Z
X-MICROSOFT-CDO-ALLDAYEVENT:FALSE
SUMMARY:Microsoft Excel Lunch & Learn
DESCRIPTION:Lunch & Learn:  Microsoft Excel\n\nA Tips & Tricks Session to Making Microsoft Excel Work For You!\n\n\n\nPresented by Joe Blackburn of Blackburn Technologies\n\nTuesday\, March 8\n\n11:30 a.m. - 1 p.m.\n\nBeatrice City Auditorium Conference Room\, 205 N 4th Street\n\n\n\nBring your laptop with you if you'd like to follow-along.  You must have Microsoft Office installed on your computer.\n\n\n\nRSVP by March 1\, 2011.  Click here for registration form.
X-ALT-DESC;FMTTYPE=text/html:<span style="font-size: 14px">Lunch &amp\; Learn:&nbsp\; Microsoft Excel<br />\nA Tips &amp\; Tricks Session to Making Microsoft Excel Work For You!</span><br />\n<br />\nPresented by Joe Blackburn of Blackburn Technologies<br />\nTuesday\, March 8<br />\n11:30 a.m. - 1 p.m.<br />\nBeatrice City Auditorium Conference Room\, 205 N 4th Street<br />\n<br />\nBring your laptop with you if you&#39\;d like to follow-along.&nbsp\; You must have Microsoft Office installed on your computer.<br />\n<br />\nRSVP by March 1\, 2011.&nbsp\; Click here for registration form.&nbsp\;<br />\n
LOCATION:
UID:e.41.4180
SEQUENCE:3
DTSTAMP:20260424T211346Z
URL:https://business.beatricechamber.com/events/details/microsoft-excel-lunch-learn-03-08-2011-4180
END:VEVENT

END:VCALENDAR
