BEGIN:VCALENDAR
VERSION:2.0
PRODID:-//ChamberMaster//Event Calendar 2.0//EN
METHOD:PUBLISH
X-PUBLISHED-TTL:P3D
REFRESH-INTERVAL:P3D
CALSCALE:GREGORIAN
BEGIN:VEVENT
DTSTART:20120313T163000Z
DTEND:20120313T180000Z
X-MICROSOFT-CDO-ALLDAYEVENT:FALSE
SUMMARY:Microsoft Office365 and PowerPoint Lunch & Learn
DESCRIPTION:Beatrice Area Chamber of Commerce presents:\n\nLunch & Learn: Microsoft Office 365 & PowerPoint\n\nA Tips and Tricks Session!\n\n\n\nTuesday\, March 13\n\n11:30 am - 1 pm\n\n\n\n$10 for NonMembers of Beatrice Area Chamber of Commerce\n\nNo admission for members of Beatrice Area Chamber of Commerce (a benefit of your membership!)\n\n\n\nClick here for more information and registration form.\n\nSpace is limited\, register by March 9.
X-ALT-DESC;FMTTYPE=text/html:Beatrice Area Chamber of Commerce presents:<br />\nLunch &amp\; Learn: Microsoft Office 365 &amp\; PowerPoint<br />\nA Tips and Tricks Session!<br />\n<br />\nTuesday\, March 13<br />\n11:30 am - 1 pm<br />\n<br />\n$10 for NonMembers of Beatrice Area Chamber of Commerce<br />\nNo admission for members of Beatrice Area Chamber of Commerce (a benefit of your membership!)<br />\n<br />\n<a href="http://assets.colenient.com/images/articles/3/lunchlearn/3-l&amp\;l_microsoft_office_365_march_13.pdf">Click here </a>for more information and registration form.<br />\nSpace is limited\, register by March 9.
LOCATION:
UID:e.41.5318
SEQUENCE:3
DTSTAMP:20260422T172229Z
URL:https://business.beatricechamber.com/events/details/microsoft-office365-and-powerpoint-lunch-learn-03-13-2012-5318
END:VEVENT

END:VCALENDAR
