BEGIN:VCALENDAR
VERSION:2.0
PRODID:-//ChamberMaster//Event Calendar 2.0//EN
METHOD:PUBLISH
X-PUBLISHED-TTL:P3D
REFRESH-INTERVAL:P3D
CALSCALE:GREGORIAN
BEGIN:VEVENT
DTSTART:20090809T040000Z
DTEND:20090808T180000Z
X-MICROSOFT-CDO-ALLDAYEVENT:FALSE
SUMMARY:Mid States Mud Draggers presents Wymore Mud Drags
DESCRIPTION:Wymore Mud DragsSaturday August 8thRegistration from 8-10:30 amRacing starts at 11:00 am $20 entry fee per ClassAdmission $8Kids 6 & Under are Free Concesssion stand on groundsBring your Lawn Chairs Located 1 Mile South of Wymore then 1/4 mile East on Plum Road. For more info www.midstatesmuddraggers.com or call Keith 645-3752 or Nate 239-5691
X-ALT-DESC;FMTTYPE=text/html:<div>Wymore Mud Drags</div><div>Saturday August 8th</div><div>Registration from 8-10:30 am</div><div>Racing starts at 11:00 am</div><div>&nbsp\;</div><div>$20 entry fee per Class</div><div>Admission $8</div><div>Kids 6 &amp\; Under are Free</div><div>&nbsp\;</div><div>Concesssion stand on grounds</div><div>Bring your&nbsp\;Lawn Chairs</div><div>&nbsp\;</div><div>Located 1 Mile South of Wymore then 1/4 mile East on Plum Road.</div><div>&nbsp\;</div><div>For more info <a href="http://www.midstatesmuddraggers.com">www.midstatesmuddraggers.com</a> or call Keith 645-3752 or Nate 239-5691</div>
LOCATION:
UID:e.41.1323
SEQUENCE:3
DTSTAMP:20260426T012027Z
URL:https://business.beatricechamber.com/events/details/mid-states-mud-draggers-presents-wymore-mud-drags-08-08-2009-1323
END:VEVENT

END:VCALENDAR
