BEGIN:VCALENDAR
VERSION:2.0
PRODID:-//ChamberMaster//Event Calendar 2.0//EN
METHOD:PUBLISH
X-PUBLISHED-TTL:P3D
REFRESH-INTERVAL:P3D
CALSCALE:GREGORIAN
BEGIN:VEVENT
DTSTART;VALUE=DATE:20100222
DTEND;VALUE=DATE:20100223
TRANSP:TRANSPARENT
X-MICROSOFT-CDO-ALLDAYEVENT:TRUE
SUMMARY:Mid Winter Choral Concert
DESCRIPTION:Mid-Winter Choral ConcertBeatrice High School Music Department Monday\, February 227 p.m. Hevelone Center for Performing Arts Groups to perform include:  Limited Edition Show Choir\, William of Orange Singers\, BHS Women's Choir\, BHS Concert Choir\, and a duet by Megan Decker & Natalie Frahm Suggested donation for the concert is $5 for adults at $3 for students
X-ALT-DESC;FMTTYPE=text/html:<div style="text-align: center"><strong><span style="font-size: large">Mid-Winter Choral Concert</span></strong></div><div style="text-align: center"><strong><span style="font-size: large">Beatrice High School </span></strong></div><div style="text-align: center"><strong><span style="font-size: large">Music Department</span></strong></div><div style="text-align: center">&nbsp\;</div><div style="text-align: center"><strong><span style="font-size: medium">Monday\, February 22</span></strong></div><div style="text-align: center"><strong><span style="font-size: medium">7 p.m.</span></strong></div><div style="text-align: center">&nbsp\;</div><div style="text-align: center"><span style="font-size: small">Hevelone Center for Performing Arts</span></div><div style="text-align: center">&nbsp\;</div><div style="text-align: center"><span style="font-size: small">Groups to perform include:&nbsp\; Limited Edition Show Choir\, William of Orange Singers\, BHS&nbsp\;Women's Choir\, BHS Concert Choir\, and a duet by Megan Decker &amp\; Natalie Frahm</span></div><div style="text-align: center">&nbsp\;</div><div style="text-align: center"><span style="font-size: small">Suggested donation for the concert is $5 for adults at $3 for students</span></div>
LOCATION:
UID:e.41.1658
SEQUENCE:3
DTSTAMP:20260425T165603Z
URL:https://business.beatricechamber.com/events/details/mid-winter-choral-concert-02-22-2010-1658
END:VEVENT

END:VCALENDAR
