BEGIN:VCALENDAR
VERSION:2.0
PRODID:-//ChamberMaster//Event Calendar 2.0//EN
METHOD:PUBLISH
X-PUBLISHED-TTL:P3D
REFRESH-INTERVAL:P3D
CALSCALE:GREGORIAN
BEGIN:VEVENT
DTSTART;VALUE=DATE:20120609
DTEND;VALUE=DATE:20120610
TRANSP:TRANSPARENT
X-MICROSOFT-CDO-ALLDAYEVENT:TRUE
SUMMARY:Miracle Mile for Kids Walkathon
DESCRIPTION:American Legion Post 27 and American Legion Auxiliary Unit 27 is asking those interested in getting a little exercise to do so while improving a child's life by participating in the 12th annual Miracle Miles for Kids walkathon Saturday\, June 9\, at the American Legion in Beatrice.\n\nPost 27 is one of 14\,000 community-based posts who developed this event to help raise funds for Children's Miracle Network affiliated children's hospitals\, which includes Children's Hospital of Omaha.\n\nRegistration will begin as early as 8:30 a.m. The opening ceremony will begin at 9:45 a.m. and the walk should begin at 10 a.m. There will be an award ceremony at 11:30 a.m. The walkathon is 3 miles.\n\n\n\nFor more information call Marian at 402-228-1880.
X-ALT-DESC;FMTTYPE=text/html:American Legion&nbsp\;Post 27 and American Legion Auxiliary&nbsp\;Unit 27 is asking those&nbsp\;interested&nbsp\;in getting a little exercise&nbsp\;to do so while&nbsp\;improving&nbsp\;a child&#39\;s&nbsp\;life by participating&nbsp\;in the 12th&nbsp\;annual&nbsp\;Miracle Miles&nbsp\;for Kids&nbsp\;walkathon&nbsp\;Saturday\, June 9\, at the American&nbsp\;Legion&nbsp\;in Beatrice.<br />\nPost 27 is one of 14\,000 community-based posts who developed this event to help&nbsp\;raise funds&nbsp\;for Children&#39\;s Miracle Network&nbsp\;affiliated&nbsp\;children&#39\;s&nbsp\;hospitals\,&nbsp\;which includes Children&#39\;s Hospital&nbsp\;of Omaha.<br />\nRegistration&nbsp\;will begin&nbsp\;as early as&nbsp\;8:30 a.m.&nbsp\;The opening ceremony will begin at&nbsp\;9:45&nbsp\;a.m. and the walk should&nbsp\;begin at&nbsp\;10 a.m. There will be an award&nbsp\;ceremony at 11:30 a.m. The walkathon is&nbsp\;3 miles.<br />\n<br />\nFor more&nbsp\;information call&nbsp\;Marian at 402-228-1880.
LOCATION:
UID:e.41.5502
SEQUENCE:3
DTSTAMP:20260422T131237Z
URL:https://business.beatricechamber.com/events/details/miracle-mile-for-kids-walkathon-06-09-2012-5502
END:VEVENT

END:VCALENDAR
