BEGIN:VCALENDAR
VERSION:2.0
PRODID:-//ChamberMaster//Event Calendar 2.0//EN
METHOD:PUBLISH
X-PUBLISHED-TTL:P3D
REFRESH-INTERVAL:P3D
CALSCALE:GREGORIAN
BEGIN:VEVENT
DTSTART;VALUE=DATE:20100612
DTEND;VALUE=DATE:20100613
TRANSP:TRANSPARENT
X-MICROSOFT-CDO-ALLDAYEVENT:TRUE
SUMMARY:Miracle Miles for Kids Walkathon
DESCRIPTION:10th Annual Miracle Miles for Kids Walkathon8:30 a.m.June 12 8:30 a.m. registration\, Chautauqua Park\, Beatrice\, 9:45 am opening ceremony\, 10 am 3 mile-walk\, 11:30 am awards ceremony.  Sponsor:  American Legion Post 27 and American Legion Auxiliary Unit 27 to raise funds for Children's Miracle Network - affiliated hospitals\, which includes Children's Hospital of Omaha.  For more info: Marian Melcher\, 228-1880
X-ALT-DESC;FMTTYPE=text/html:<div>10th Annual Miracle Miles for Kids Walkathon</div><div>8:30 a.m.</div><div>June 12</div><div>&nbsp\;</div><div>8:30 a.m. registration\, Chautauqua Park\, Beatrice\, 9:45 am opening ceremony\, 10 am 3 mile-walk\, 11:30 am awards ceremony.&nbsp\;</div><div>&nbsp\;</div><div>Sponsor: &nbsp\;American Legion Post 27 and American Legion Auxiliary Unit 27 to raise funds for Children's Miracle Network - affiliated hospitals\, which includes Children's Hospital of Omaha.&nbsp\;</div><div>&nbsp\;</div><div>For more info: Marian Melcher\, 228-1880</div>
LOCATION:
UID:e.41.1971
SEQUENCE:3
DTSTAMP:20260425T105452Z
URL:https://business.beatricechamber.com/events/details/miracle-miles-for-kids-walkathon-06-12-2010-1971
END:VEVENT

END:VCALENDAR
