BEGIN:VCALENDAR
VERSION:2.0
PRODID:-//ChamberMaster//Event Calendar 2.0//EN
METHOD:PUBLISH
X-PUBLISHED-TTL:P3D
REFRESH-INTERVAL:P3D
CALSCALE:GREGORIAN
BEGIN:VEVENT
DTSTART;VALUE=DATE:20110811
DTEND;VALUE=DATE:20110812
TRANSP:TRANSPARENT
X-MICROSOFT-CDO-ALLDAYEVENT:TRUE
SUMMARY:Miracle Treat Day at Dairy Queen
DESCRIPTION:Proceeds from every Blizzard Treat sold that day go to Children's Hospital & Medical Center.  All currently featured flavors will be available on Miracle Treat Day.\n\n\n\nFor more information about Miracle Treat Day\, visit www.MiracleTreatDay.com
X-ALT-DESC;FMTTYPE=text/html:Proceeds from every Blizzard Treat sold that day go to Children&#39\;s Hospital &amp\; Medical Center.&nbsp\; All currently featured flavors will be available on Miracle Treat Day.<br />\n<br />\nFor more information about Miracle Treat Day\, visit <a href="http://www.MiracleTreatDay.com">www.MiracleTreatDay.com</a>
LOCATION:
UID:e.41.5015
SEQUENCE:3
DTSTAMP:20260424T134713Z
URL:https://business.beatricechamber.com/events/details/miracle-treat-day-at-dairy-queen-08-11-2011-5015
END:VEVENT

END:VCALENDAR
