BEGIN:VCALENDAR
VERSION:2.0
PRODID:-//ChamberMaster//Event Calendar 2.0//EN
METHOD:PUBLISH
X-PUBLISHED-TTL:P3D
REFRESH-INTERVAL:P3D
CALSCALE:GREGORIAN
BEGIN:VEVENT
DTSTART;VALUE=DATE:20110318
DTEND;VALUE=DATE:20110319
TRANSP:TRANSPARENT
X-MICROSOFT-CDO-ALLDAYEVENT:TRUE
SUMMARY:Mixed Stag
DESCRIPTION:The Wymore Sons of the American Legion are hosting a mixed stag Friday\, March 18\, beginning at 5:30 p.m. at the Wymore Legion Club.\n\n\n\nThe all-you-can-eat fish fry and ham meal is $8 per person.
X-ALT-DESC;FMTTYPE=text/html:The Wymore Sons of the American Legion are hosting a mixed stag Friday\, March 18\, beginning at 5:30 p.m. at the Wymore Legion Club.<br />\n<br />\nThe all-you-can-eat fish fry and ham meal is <strong>$8 per person</strong>.
LOCATION:
UID:e.41.4232
SEQUENCE:3
DTSTAMP:20260424T211351Z
URL:https://business.beatricechamber.com/events/details/mixed-stag-03-18-2011-4232
END:VEVENT

END:VCALENDAR
