BEGIN:VCALENDAR
VERSION:2.0
PRODID:-//ChamberMaster//Event Calendar 2.0//EN
METHOD:PUBLISH
X-PUBLISHED-TTL:P3D
REFRESH-INTERVAL:P3D
CALSCALE:GREGORIAN
BEGIN:VEVENT
DTSTART;VALUE=DATE:20111028
DTEND;VALUE=DATE:20111029
TRANSP:TRANSPARENT
X-MICROSOFT-CDO-ALLDAYEVENT:TRUE
SUMMARY:Mixed Stag
DESCRIPTION:Mixed Stag\n\n\n\nFriday\, October 28\n\n5:30 pm - ???\n\n\n\nWymore American Legion\n\n\n\nAll you can eat beef fries & ham.  $8 per person\n\n\n\nSponsor:  Sons of the American Legion\n\n\n\nAlso annual Browning shotgun raffle
X-ALT-DESC;FMTTYPE=text/html:Mixed Stag<br />\n<br />\nFriday\, October 28<br />\n5:30 pm - ???<br />\n<br />\nWymore American Legion<br />\n<br />\nAll you can eat beef fries &amp\; ham.&nbsp\; $8 per person<br />\n<br />\nSponsor:&nbsp\; Sons of the American Legion<br />\n<br />\nAlso annual Browning shotgun raffle
LOCATION:
UID:e.41.5197
SEQUENCE:3
DTSTAMP:20260424T110118Z
URL:https://business.beatricechamber.com/events/details/mixed-stag-10-28-2011-5197
END:VEVENT

END:VCALENDAR
