BEGIN:VCALENDAR
VERSION:2.0
PRODID:-//ChamberMaster//Event Calendar 2.0//EN
METHOD:PUBLISH
X-PUBLISHED-TTL:P3D
REFRESH-INTERVAL:P3D
CALSCALE:GREGORIAN
BEGIN:VEVENT
DTSTART;VALUE=DATE:20120425
DTEND;VALUE=DATE:20120528
TRANSP:TRANSPARENT
X-MICROSOFT-CDO-ALLDAYEVENT:TRUE
SUMMARY:MONA Exhibition at The Lang Building
DESCRIPTION:MONA Exhibition\n\n\n\nApril 25 - May 27\n\nThe Lang Building\, 6th & Ella Streets\, Beatrice\n\n\n\nAs part of the Homestead National Monument of America's Commemoration of the 150th Anniversary of the signing of the Homestead Act\, Main Street Beatrice will host an art exhibition downtown.\n\n\n\nThe exhibition will be located at the Lang Building from 10 am - 6 pm daily\, and will be free to the public. \n\n\n\nThe art exhibition from the Museum of Nebraska Art\, will feature the photographs of Solomon Butcher and other related selections.  With over 3\,000 photographs\, Solomon Butcher produced a record of the settlement of the Great Plains that is both unique and remarkable.\n\n\n\nThe MONA exhibition was made possible through the generosity of the Nebraska Arts Council.
X-ALT-DESC;FMTTYPE=text/html:MONA Exhibition<br />\n<br />\nApril 25 - May 27<br />\nThe Lang Building\, 6th &amp\; Ella Streets\, Beatrice<br />\n<br />\nAs part of the Homestead National Monument of America&#39\;s Commemoration of the 150th Anniversary of the signing of the Homestead Act\, Main Street Beatrice will host an art exhibition downtown.<br />\n<br />\nThe exhibition will be located at the Lang Building from 10 am - 6 pm daily\, and will be free to the public.&nbsp\;<br />\n<br />\nThe art exhibition from the Museum of Nebraska Art\, will feature the photographs of Solomon Butcher and other related selections.&nbsp\; With over 3\,000 photographs\, Solomon Butcher produced a record of the settlement of the Great Plains that is both unique and remarkable.<br />\n<br />\nThe MONA exhibition was made possible through the generosity of the Nebraska Arts Council.
LOCATION:
UID:e.41.5421
SEQUENCE:3
DTSTAMP:20260422T142434Z
URL:https://business.beatricechamber.com/events/details/mona-exhibition-at-the-lang-building-04-25-2012-5421
END:VEVENT

END:VCALENDAR
