BEGIN:VCALENDAR
VERSION:2.0
PRODID:-//ChamberMaster//Event Calendar 2.0//EN
METHOD:PUBLISH
X-PUBLISHED-TTL:P3D
REFRESH-INTERVAL:P3D
CALSCALE:GREGORIAN
BEGIN:VEVENT
DTSTART;VALUE=DATE:20100529
DTEND;VALUE=DATE:20100530
TRANSP:TRANSPARENT
X-MICROSOFT-CDO-ALLDAYEVENT:TRUE
SUMMARY:Monumental Fiddling Championship 2010
DESCRIPTION:Monumental Fiddling Championship and Acoustic Band Contest Saturday\, May 29\, 2010Homestead National Monument of America Free fiddling workshop and competition will be held at 10 a.m. and competition begins at 2 p.m.  The junior\, senior\, and acoustic band category winners will perform starting at 7 p.m. For more information\, contact Homestead National Monument of America at 223-3514.  Online at www.nps.gov/home.
X-ALT-DESC;FMTTYPE=text/html:<div>Monumental Fiddling Championship and Acoustic Band Contest</div><div>&nbsp\;</div><div>Saturday\, May 29\, 2010</div><div>Homestead National Monument of America</div><div>&nbsp\;</div><div>Free fiddling workshop and competition will be held at 10 a.m. and competition begins at 2 p.m.&nbsp\;&nbsp\;The junior\, senior\, and acoustic band category winners will perform starting at 7 p.m.</div><div>&nbsp\;</div><div>For more information\, contact Homestead National Monument of America at 223-3514.&nbsp\; Online at <a href="http://www.nps.gov/home">www.nps.gov/home</a>.</div>
LOCATION:
UID:e.41.1933
SEQUENCE:3
DTSTAMP:20260425T122656Z
URL:https://business.beatricechamber.com/events/details/monumental-fiddling-championship-2010-05-29-2010-1933
END:VEVENT

END:VCALENDAR
