BEGIN:VCALENDAR
VERSION:2.0
PRODID:-//ChamberMaster//Event Calendar 2.0//EN
METHOD:PUBLISH
X-PUBLISHED-TTL:P3D
REFRESH-INTERVAL:P3D
CALSCALE:GREGORIAN
BEGIN:VEVENT
DTSTART:20120526T150000Z
DTEND:20120527T020000Z
X-MICROSOFT-CDO-ALLDAYEVENT:FALSE
SUMMARY:Monumental Fiddling Championship\, featuring John McCutcheon
DESCRIPTION:The 2012 Monumental Fiddling Championship will be on Saturday\, May 26 at the monument's Education Center from 10 a.m. until 9 p.m. This exciting day will feature a morning fiddling workshop\, competition throughout the afternoon\, and a concert by John McCutcheon to finish the evening.
X-ALT-DESC;FMTTYPE=text/html:<p>\n	The 2012 Monumental Fiddling Championship will be on Saturday\, May 26 at the monument&#39\;s Education Center from 10 a.m. until 9 p.m. This exciting day will feature a morning fiddling workshop\, competition throughout the afternoon\, and a concert by&nbsp\;John McCutcheon&nbsp\;to finish the evening.</p>\n
LOCATION:Homestead National Monument of America's Education Center
UID:e.41.5354
SEQUENCE:3
DTSTAMP:20260422T142630Z
URL:https://business.beatricechamber.com/events/details/monumental-fiddling-championship-featuring-john-mccutcheon-05-26-2012-5354
END:VEVENT

END:VCALENDAR
