BEGIN:VCALENDAR
VERSION:2.0
PRODID:-//ChamberMaster//Event Calendar 2.0//EN
METHOD:PUBLISH
X-PUBLISHED-TTL:P3D
REFRESH-INTERVAL:P3D
CALSCALE:GREGORIAN
BEGIN:VEVENT
DTSTART;VALUE=DATE:20111021
DTEND;VALUE=DATE:20111024
TRANSP:TRANSPARENT
X-MICROSOFT-CDO-ALLDAYEVENT:TRUE
SUMMARY:Moonlight & Magnolias
DESCRIPTION:Beatrice Community Players Presents:\n\n	\n\n	Moonlight and Magnolias\n\n	Oct. 21 - 7:30 p.m.\n\n	Oct. 22 - 7:30 p.m.\n\n	Oct. 23 - 2 p.m.\n\n	Oct. 27 - Private performance (Wells Fargo Advisors)\n\n	Oct. 28 - 7:30 p.m.\n\n	Oct. 29 - 7:30 p.m.\n\n	Oct. 30 - 2 p.m.\n\n	\n\n	www.beatricecommunityplayers.com
X-ALT-DESC;FMTTYPE=text/html:<p>\n	<strong><span style="font-size: large">Beatrice Community Players Presents:<br />\n	<br />\n	Moonlight and Magnolias</span></strong></p>\n<p>\n	<span style="font-size: medium">Oct. 21 - 7:30 p.m.</span></p>\n<p>\n	<span style="font-size: medium">Oct. 22 - 7:30 p.m.</span></p>\n<p>\n	<span style="font-size: medium">Oct. 23 - 2 p.m.</span></p>\n<p>\n	<span style="font-size: medium">Oct. 27 - Private performance (Wells Fargo Advisors)</span></p>\n<p>\n	<span style="font-size: medium">Oct. 28 - 7:30 p.m.</span></p>\n<p>\n	<span style="font-size: medium">Oct. 29 - 7:30 p.m.</span></p>\n<p>\n	<span style="font-size: medium">Oct. 30 - 2 p.m.<br />\n	<br />\n	<a href="http://www.beatricecommunityplayers.com">www.beatricecommunityplayers.com</a></span></p>\n
LOCATION:
UID:e.41.5187
SEQUENCE:3
DTSTAMP:20260424T111143Z
URL:https://business.beatricechamber.com/events/details/moonlight-magnolias-10-21-2011-5187
END:VEVENT

END:VCALENDAR
