BEGIN:VCALENDAR
VERSION:2.0
PRODID:-//ChamberMaster//Event Calendar 2.0//EN
METHOD:PUBLISH
X-PUBLISHED-TTL:P3D
REFRESH-INTERVAL:P3D
CALSCALE:GREGORIAN
BEGIN:VEVENT
DTSTART:20120416T141500Z
DTEND:20120416T161500Z
X-MICROSOFT-CDO-ALLDAYEVENT:FALSE
SUMMARY:MOPS (Mothers of Preschoolers)
DESCRIPTION:Group of moms\, who have kids under the age of five\, gathering together to encourage and support one another. Childcare\, breakfast and a speaker or craft
X-ALT-DESC;FMTTYPE=text/html:Group of moms\, who have kids under the age of five\, gathering together to encourage and support one another. Childcare\, breakfast and a speaker or craft
LOCATION:Christ Community Church\, 2727 Lincoln Blvd.\, Beatrice
UID:e.41.5451
SEQUENCE:3
DTSTAMP:20260422T155132Z
URL:https://business.beatricechamber.com/events/details/mops-mothers-of-preschoolers-04-16-2012-5451
END:VEVENT

END:VCALENDAR
