BEGIN:VCALENDAR
VERSION:2.0
PRODID:-//ChamberMaster//Event Calendar 2.0//EN
METHOD:PUBLISH
X-PUBLISHED-TTL:P3D
REFRESH-INTERVAL:P3D
CALSCALE:GREGORIAN
BEGIN:VEVENT
DTSTART:20110829T233000Z
DTEND:20110830T013000Z
X-MICROSOFT-CDO-ALLDAYEVENT:FALSE
SUMMARY:MOPS (Mothers of Preschoolers) Kickoff
DESCRIPTION:6:30-8:30 p.m.\, Christ Community Church\, 2727 Lincoln Blvd.\, Beatrice.  Group of moms\, who have kids under the age of five\, gathering the first and third Monday mornings of the month.  For the kickoff\, leave the kids at home and join the group for desserts\, fun\, and information about the group.
X-ALT-DESC;FMTTYPE=text/html:6:30-8:30 p.m.\, Christ Community Church\, 2727 Lincoln Blvd.\, Beatrice.&nbsp\; Group of moms\, who have kids under the age of five\, gathering the first and third Monday mornings of the month.&nbsp\; For the kickoff\, leave the kids at home and join the group for desserts\, fun\, and information about the group.
LOCATION:
UID:e.41.5054
SEQUENCE:3
DTSTAMP:20260424T140842Z
URL:https://business.beatricechamber.com/events/details/mops-mothers-of-preschoolers-kickoff-08-29-2011-5054
END:VEVENT

END:VCALENDAR
