BEGIN:VCALENDAR
VERSION:2.0
PRODID:-//ChamberMaster//Event Calendar 2.0//EN
METHOD:PUBLISH
X-PUBLISHED-TTL:P3D
REFRESH-INTERVAL:P3D
CALSCALE:GREGORIAN
BEGIN:VEVENT
DTSTART;VALUE=DATE:20100514
DTEND;VALUE=DATE:20100515
TRANSP:TRANSPARENT
X-MICROSOFT-CDO-ALLDAYEVENT:TRUE
SUMMARY:MOSAIC Charity Golf Tournament 5/14/10
DESCRIPTION:MOSAIC CHARITY GOLF TOURNAMENT Hosted by MOSAIC in Beatrice Friday\, May 14\, 2010Wymore Country Club 18 hole tournament - 4 person scrambleshotgun start - 10:00 a.m. Sharp. Proceeds will be used to purchase adaptive equipment and provide vacations for our residents.  This event is sponsored by Thrivent. Registration InformationEntry fee is $55 per person\, or $220 per team Fees:Green fees for 18 holes\, cart\, & all applicable sales tax $10Donation $45Free Items for Golfers:  Starter kit\, T-shirt\, Lunch\, Door prizes\, & Flag prizes Tournament Rules:  You don't have to be good to be a winner in this event! For more information call Terry Milligan or Ken Wellensiek 8 a.m. - 4 p.m. 402-223-4066 or after 6 p.m. call 402-645-3130.
X-ALT-DESC;FMTTYPE=text/html:<div style="text-align: center"><strong><span style="font-size: medium">MOSAIC&nbsp\;CHARITY GOLF TOURNAMENT</span></strong></div><div style="text-align: center">&nbsp\;</div><div style="text-align: center"><span style="font-size: small">Hosted by MOSAIC in Beatrice</span></div><div style="text-align: center">&nbsp\;</div><div style="text-align: center"><strong><span style="font-size: small">Friday\, May 14\, 2010</span></strong></div><div style="text-align: center"><strong><span style="font-size: small">Wymore Country Club</span></strong></div><div style="text-align: center">&nbsp\;</div><div style="text-align: center"><span style="font-size: small">18 hole tournament - 4 person scramble</span></div><div style="text-align: center"><span style="font-size: small">shotgun start - 10:00 a.m. Sharp.</span></div><div style="text-align: center">&nbsp\;</div><div style="text-align: center"><span style="font-size: small"><em>Proceeds will be used to purchase adaptive equipment and provide vacations for our residents.&nbsp\; This event is sponsored by Thrivent.</em></span></div><div>&nbsp\;</div><div>Registration Information</div><div>Entry fee is $55 per person\, or $220 per team</div><div>&nbsp\;</div><div>Fees:</div><div>Green fees for 18 holes\, cart\, &amp\;&nbsp\;all applicable sales tax $10</div><div>Donation $45</div><div>Free Items for Golfers: &nbsp\;Starter kit\, T-shirt\, Lunch\, Door prizes\, &amp\; Flag prizes</div><div>&nbsp\;</div><div>Tournament Rules:&nbsp\; You don't have to be good to be a winner in this event!</div><div>&nbsp\;</div><div>For more information call Terry Milligan or Ken Wellensiek 8 a.m. - 4 p.m. 402-223-4066 or after 6 p.m. call 402-645-3130.</div><div>&nbsp\;</div><div>&nbsp\;</div>
LOCATION:
UID:e.41.1948
SEQUENCE:3
DTSTAMP:20260425T123137Z
URL:https://business.beatricechamber.com/events/details/mosaic-charity-golf-tournament-5-14-10-05-14-2010-1948
END:VEVENT

END:VCALENDAR
