BEGIN:VCALENDAR
VERSION:2.0
PRODID:-//ChamberMaster//Event Calendar 2.0//EN
METHOD:PUBLISH
X-PUBLISHED-TTL:P3D
REFRESH-INTERVAL:P3D
CALSCALE:GREGORIAN
BEGIN:VEVENT
DTSTART;VALUE=DATE:20091022
DTEND;VALUE=DATE:20091024
TRANSP:TRANSPARENT
X-MICROSOFT-CDO-ALLDAYEVENT:TRUE
SUMMARY:MOSAIC Craft Sale
DESCRIPTION:MOSAIC Fall SaleWhen:    Thursday--- October 22nd  from 12:00 pm   4:00pm                Friday-------October 23rd  from    8:00 am   4:00pm  Where:   Mosaic Adult Service Center   (Large gold Building south of Water Park)                        722 South 12th Street\, Beatrice NE Why:    Proceeds only go towards the Christmas Fund for the individuals                                            we serve! All Friends and Family of Mosaic are WELCOME!Please pay with CASH or CHECK at the time of your purchase.Everything sold AS-IS.We hope to see you there!
X-ALT-DESC;FMTTYPE=text/html:<div><table cellspacing="0" cellpadding="10" width="100%" bgcolor="#cc6600" border="0"><tbody><tr><td valign="top" align="left" style="padding-right: 10px\; padding-left: 10px\; padding-bottom: 10px\; padding-top: 10px"><font face="Verdana\, Arial\, Helvetica\, sans-serif" size="+1" style="font-size: 14px"><strong><b>MOSAIC Fall Sale</b></strong></font></td></tr><tr><td valign="top" align="left" style="padding-right: 10px\; padding-left: 10px\; padding-bottom: 10px\; padding-top: 10px"><font face="Verdana\, Arial\, Helvetica\, sans-serif" style="font-size: 11px"><div p=""><font size="2"><strong>When:</strong><strong><em>&nbsp\;&nbsp\;</em></strong><strong>&nbsp\;&nbsp\;Thursday--- October 22<sup>nd </sup>&nbsp\;from 12:00 pm &ndash\; 4:00pm</strong></font></div><div p=""><strong><font size="2">&nbsp\;&nbsp\;&nbsp\;&nbsp\;&nbsp\;&nbsp\;&nbsp\;&nbsp\;&nbsp\;&nbsp\;&nbsp\;&nbsp\;&nbsp\;&nbsp\;&nbsp\;&nbsp\;Friday-------October 23<sup>rd</sup>&nbsp\; from &nbsp\;&nbsp\;&nbsp\;8:00 am &ndash\; 4:00pm</font></strong></div><div p=""><strong><font size="2">&nbsp\; </font></strong></div><div p=""><font size="2"><strong>Where:</strong><strong>&nbsp\;&nbsp\;&nbsp\;Mosaic Adult Service Center&nbsp\;&nbsp\; </strong><strong>(Large gold Building south of Water Park)</strong></font></div><div p=""><strong><font size="2">&nbsp\;&nbsp\;&nbsp\;&nbsp\;&nbsp\;&nbsp\;&nbsp\;&nbsp\;&nbsp\;&nbsp\;&nbsp\;&nbsp\;&nbsp\;&nbsp\;&nbsp\; &nbsp\;&nbsp\;&nbsp\;&nbsp\;&nbsp\;&nbsp\;&nbsp\; 722 South 12<sup>th</sup> Street\, Beatrice NE</font></strong></div><div p=""><strong><font size="2">&nbsp\;</font></strong></div><div p=""><font size="2"><strong>Why:</strong><strong>&nbsp\;&nbsp\;&nbsp\; Proceeds <span style="text-decoration: underline">only</span> go towards the Christmas Fund for the individuals &nbsp\;&nbsp\;&nbsp\;&nbsp\;&nbsp\;&nbsp\;&nbsp\;&nbsp\;&nbsp\;&nbsp\;&nbsp\;&nbsp\;&nbsp\;&nbsp\;&nbsp\;&nbsp\;&nbsp\;&nbsp\;&nbsp\;&nbsp\;&nbsp\;&nbsp\;&nbsp\;&nbsp\;&nbsp\;&nbsp\;&nbsp\;&nbsp\;&nbsp\;&nbsp\;&nbsp\;&nbsp\;&nbsp\;&nbsp\;&nbsp\;&nbsp\;&nbsp\;&nbsp\;&nbsp\;&nbsp\;&nbsp\;&nbsp\;&nbsp\;we serve!</strong></font></div><div p=""><font size="2">&nbsp\;</font></div><div p=""><font size="2">All Friends and Family of Mosaic are WELCOME!</font></div><div p=""><font size="2">Please pay with CASH or CHECK at the time of your purchase.</font></div><div p=""><font size="2">Everything sold AS-IS.</font></div><font size="2">We hope to see you there!</font></font><font face="Times New Roman" size="3"> </font></td></tr></tbody></table></div>
LOCATION:
UID:e.41.1496
SEQUENCE:3
DTSTAMP:20260425T222206Z
URL:https://business.beatricechamber.com/events/details/mosaic-craft-sale-10-22-2009-1496
END:VEVENT

END:VCALENDAR
