BEGIN:VCALENDAR
VERSION:2.0
PRODID:-//ChamberMaster//Event Calendar 2.0//EN
METHOD:PUBLISH
X-PUBLISHED-TTL:P3D
REFRESH-INTERVAL:P3D
CALSCALE:GREGORIAN
BEGIN:VEVENT
DTSTART:20091029T130000Z
DTEND:20091030T210000Z
X-MICROSOFT-CDO-ALLDAYEVENT:FALSE
SUMMARY:MOSAIC Fall Craft Sale
DESCRIPTION:MOSAIC Fall Craft SaleWhen:        Thursday--- October 29th from 8:00 am   4:00pm                   Friday-------October 30th from 8:00 am   4:00pm Where:    Mosaic Adult Service Center   (Large gold Building south of Water Park)                        722 South 12th Street\, Beatrice NEWhy:         Proceeds only go towards the Christmas Fund for the individuals                                            we serve! All Friends and Family of Mosaic are WELCOME!Please pay with CASH or CHECK at the time of your purchase.Everything sold AS-IS.We hope to see you there!
X-ALT-DESC;FMTTYPE=text/html:<div><div style="margin: 0in 0in 0pt"><span style="font-size: small"><b><span style="color: maroon">MOSAIC Fall Craft Sale</span></b></span></div><div style="margin: 0in 0in 0pt"><span style="font-size: small"><b><span style="color: maroon">When:</span></b><b><i><span style="color: maroon">&nbsp\;</span></i></b><b><span style="color: maroon">&nbsp\;&nbsp\;&nbsp\;&nbsp\;&nbsp\;&nbsp\; Thursday--- October 29<sup>th</sup> from 8:00 am &ndash\; 4:00pm</span></b></span></div><div style="margin: 0in 0in 0pt"><span style="font-size: small"><b><span style="color: maroon">&nbsp\;&nbsp\;&nbsp\;&nbsp\;&nbsp\;&nbsp\;&nbsp\;&nbsp\;&nbsp\;&nbsp\;&nbsp\;&nbsp\;&nbsp\;&nbsp\;&nbsp\;&nbsp\;&nbsp\; &nbsp\;Friday-------October 30<sup>th</sup> from 8:00 am &ndash\; 4:00pm</span></b></span></div><div style="margin: 0in 0in 0pt"><span style="font-size: small"><b><span style="color: maroon">&nbsp\;Where:</span></b><b><span style="color: maroon">&nbsp\;&nbsp\;&nbsp\; Mosaic Adult Service Center&nbsp\;&nbsp\; </span></b><b><span style="color: maroon">(Large gold Building south of Water Park)</span></b></span></div><div style="margin: 0in 0in 0pt"><span style="font-size: small"><b><span style="color: maroon">&nbsp\;&nbsp\;&nbsp\;&nbsp\;&nbsp\;&nbsp\;&nbsp\;&nbsp\;&nbsp\;&nbsp\;&nbsp\;&nbsp\;&nbsp\;&nbsp\;&nbsp\; &nbsp\;&nbsp\;&nbsp\;&nbsp\;&nbsp\;&nbsp\;&nbsp\; 722 South 12<sup>th</sup> Street\, Beatrice NE</span></b></span></div><div style="margin: 0in 0in 0pt 1.5in\; text-indent: -94.25pt"><span style="font-size: small"><b><span style="color: maroon">Why:</span></b><b><span style="color: maroon">&nbsp\;&nbsp\;&nbsp\;&nbsp\;&nbsp\;&nbsp\;&nbsp\;&nbsp\; Proceeds <u>only</u> go towards the Christmas Fund for the individuals &nbsp\;&nbsp\;&nbsp\;&nbsp\;&nbsp\;&nbsp\;&nbsp\;&nbsp\;&nbsp\;&nbsp\;&nbsp\;&nbsp\;&nbsp\;&nbsp\;&nbsp\;&nbsp\;&nbsp\;&nbsp\;&nbsp\;&nbsp\;&nbsp\;&nbsp\;&nbsp\;&nbsp\;&nbsp\;&nbsp\;&nbsp\;&nbsp\;&nbsp\;&nbsp\;&nbsp\;&nbsp\;&nbsp\;&nbsp\;&nbsp\;&nbsp\;&nbsp\;&nbsp\;&nbsp\;&nbsp\;&nbsp\;&nbsp\;&nbsp\;we serve!</span></b></span></div><div style="margin: 0in 0in 0pt"><span style="font-size: small">&nbsp\;</span></div><div style="margin: 0in 0in 0pt" align="center"><span style="font-size: small">All Friends and Family of Mosaic are WELCOME!</span></div><div style="margin: 0in 0in 0pt" align="center"><span style="font-size: small">Please pay with CASH or CHECK at the time of your purchase.</span></div><div style="margin: 0in 0in 0pt" align="center"><span style="font-size: small">Everything sold AS-IS.</span></div><div style="margin: 0in 0in 0pt" align="center"><span style="font-size: small">We hope to see you there!</span></div></div>
LOCATION:
UID:e.41.1506
SEQUENCE:3
DTSTAMP:20260425T222108Z
URL:https://business.beatricechamber.com/events/details/mosaic-fall-craft-sale-10-29-2009-1506
END:VEVENT

END:VCALENDAR
