BEGIN:VCALENDAR
VERSION:2.0
PRODID:-//ChamberMaster//Event Calendar 2.0//EN
METHOD:PUBLISH
X-PUBLISHED-TTL:P3D
REFRESH-INTERVAL:P3D
CALSCALE:GREGORIAN
BEGIN:VEVENT
DTSTART;VALUE=DATE:20110508
DTEND;VALUE=DATE:20110509
TRANSP:TRANSPARENT
X-MICROSOFT-CDO-ALLDAYEVENT:TRUE
SUMMARY:Mother's Day Lunch & Landmark Tour
DESCRIPTION:Start time 2.00 PM\n\nEnd time 4.00 PM\n\nThis year Mother's Day Landmark tour will feature a trolley ride of the downtown district. Pick up will be in front of Valentino's and the Black Crow. Tour will last approximately 45 minutes. Addmission is free.\n\nContact: Main Street Beatrice 402-223-3244\n\nEmail: info@mainstreetbeatrice.org\n\nWebsite URL: http://www.mainstreetbeatrice.org
X-ALT-DESC;FMTTYPE=text/html:Start time 2.00 PM<br />\nEnd time 4.00 PM<br />\nThis year Mother&#39\;s Day Landmark tour will feature a trolley ride of the downtown district. Pick up will be in front of Valentino&#39\;s and the Black Crow. Tour will last approximately 45 minutes. Addmission is free.<br />\nContact: Main Street Beatrice 402-223-3244<br />\nEmail: info@mainstreetbeatrice.org<br />\nWebsite URL: <a href="http://www.mainstreetbeatrice.org">http://www.mainstreetbeatrice.org</a> 
LOCATION:
UID:e.41.4625
SEQUENCE:3
DTSTAMP:20260424T183426Z
URL:https://business.beatricechamber.com/events/details/mother-s-day-lunch-landmark-tour-05-08-2011-4625
END:VEVENT

END:VCALENDAR
