BEGIN:VCALENDAR
VERSION:2.0
PRODID:-//ChamberMaster//Event Calendar 2.0//EN
METHOD:PUBLISH
X-PUBLISHED-TTL:P3D
REFRESH-INTERVAL:P3D
CALSCALE:GREGORIAN
BEGIN:VEVENT
DTSTART;VALUE=DATE:20100509
DTEND;VALUE=DATE:20100510
TRANSP:TRANSPARENT
X-MICROSOFT-CDO-ALLDAYEVENT:TRUE
SUMMARY:Mother's Day Lunch & Landmark Tour
DESCRIPTION:Mother's Day Lunch & Landmark Tour Sunday\, May 9 Enjoy lunch at one of the downtown restaurants and meet at Charles Park between 2 pm and 4 pm.  Event will be a preview of Charles Park and refreshments at the Carnegie Building.  Free to the public and no reservations are required. hosted by Gage County Heritage Preservation and Main Street Beatrice
X-ALT-DESC;FMTTYPE=text/html:<div><span style="font-size: medium">Mother's Day Lunch &amp\;&nbsp\;Landmark Tour</span></div><div>&nbsp\;</div><div><span style="font-size: medium">Sunday\, May 9</span></div><div>&nbsp\;</div><div><span style="font-size: small">Enjoy lunch at one of the downtown restaurants and meet at Charles Park between 2 pm and 4 pm.&nbsp\; Event will be a preview of Charles Park and refreshments at the Carnegie Building.&nbsp\; Free to the public and no reservations are required.</span></div><div>&nbsp\;</div><div><em><span style="font-size: small">hosted by Gage County Heritage Preservation and Main Street Beatrice</span></em></div>
LOCATION:
UID:e.41.1976
SEQUENCE:3
DTSTAMP:20260425T122937Z
URL:https://business.beatricechamber.com/events/details/mother-s-day-lunch-landmark-tour-05-09-2010-1976
END:VEVENT

END:VCALENDAR
