BEGIN:VCALENDAR
VERSION:2.0
PRODID:-//ChamberMaster//Event Calendar 2.0//EN
METHOD:PUBLISH
X-PUBLISHED-TTL:P3D
REFRESH-INTERVAL:P3D
CALSCALE:GREGORIAN
BEGIN:VEVENT
DTSTART;VALUE=DATE:20120505
DTEND;VALUE=DATE:20120506
TRANSP:TRANSPARENT
X-MICROSOFT-CDO-ALLDAYEVENT:TRUE
SUMMARY:Mother's Day Luncheon
DESCRIPTION:Noon\, American Legion Hall\, Virginia\n\n\n\nTheme: "Let's Go to the County Fair."\n\n\n\nAdvanced tickets are $6 and are available from Auxiliary members sr at Citizens State Bank of Virginia. Entertainment by Lucas Peterson of Barneston\, performing a variety of country western songs.\n\n\n\nFor more information\, call 402-688-4272
X-ALT-DESC;FMTTYPE=text/html:Noon\, American Legion Hall\, Virginia<br />\n<br />\nTheme: &quot\;Let&#39\;s&nbsp\;Go to the County Fair.&quot\;<br />\n<br />\nAdvanced tickets are $6&nbsp\;and are available&nbsp\;from Auxiliary&nbsp\;members sr at&nbsp\;Citizens State Bank of&nbsp\;Virginia. Entertainment by&nbsp\;Lucas&nbsp\;Peterson of Barneston\, performing a variety of country&nbsp\;western songs.<br />\n<br />\nFor more information\, call 402-688-4272
LOCATION:
UID:e.41.5482
SEQUENCE:3
DTSTAMP:20260422T142505Z
URL:https://business.beatricechamber.com/events/details/mother-s-day-luncheon-05-05-2012-5482
END:VEVENT

END:VCALENDAR
