BEGIN:VCALENDAR
VERSION:2.0
PRODID:-//ChamberMaster//Event Calendar 2.0//EN
METHOD:PUBLISH
X-PUBLISHED-TTL:P3D
REFRESH-INTERVAL:P3D
CALSCALE:GREGORIAN
BEGIN:VEVENT
DTSTART:20090627T150000Z
DTEND:20090627T190000Z
X-MICROSOFT-CDO-ALLDAYEVENT:FALSE
SUMMARY:Mother to Mother Free Garage Sale
DESCRIPTION:Mother to Mother Ministries Free Garage Sale10:00 am at Goossen Building on West Court StreetEverything was donated for this sale and everything is FREE! We ask only these four things: Take only what you needDon't take what you don't needDon't resell what you takeLeave a donation for Mother ot Mother Ministry
X-ALT-DESC;FMTTYPE=text/html:<div>Mother to Mother Ministries Free Garage Sale</div><div>10:00 am at Goossen Building on West Court Street</div><div>Everything was donated for this sale and everything is FREE!</div><div>&nbsp\;</div><div>We ask only these four things:&nbsp\;</div><div>Take only what you need</div><div>Don't take what you don't need</div><div>Don't resell what you take</div><div>Leave a donation for Mother ot Mother Ministry</div>
LOCATION:
UID:e.41.1258
SEQUENCE:3
DTSTAMP:20260426T043026Z
URL:https://business.beatricechamber.com/events/details/mother-to-mother-free-garage-sale-06-27-2009-1258
END:VEVENT

END:VCALENDAR
