BEGIN:VCALENDAR
VERSION:2.0
PRODID:-//ChamberMaster//Event Calendar 2.0//EN
METHOD:PUBLISH
X-PUBLISHED-TTL:P3D
REFRESH-INTERVAL:P3D
CALSCALE:GREGORIAN
BEGIN:VEVENT
DTSTART;VALUE=DATE:20100506
DTEND;VALUE=DATE:20100507
TRANSP:TRANSPARENT
X-MICROSOFT-CDO-ALLDAYEVENT:TRUE
SUMMARY:Mother-To-Mother Fundraiser
DESCRIPTION:2nd Annual Mother-To-Mother Ministry Fundraiser"A Night of Pampering with a Purpose" hosted by Beatrice Family Chiropractic Thursday\, May 66 pm - 8 pm2526 East Court Street All proceeds benefit Mother-To-Mother Ministry. $5 donation includes treatment\, tips and tools needed for relaxing and rejuvinating evening from some of the area's premier product and service providers. First 50 attendees will receive a gift bag with pampering supplies.  For more information or to purchase tickets\, contact Beatrice Family Chiropractic at 228-2777 or Mother--To-Mother Ministry/Burwood Books at 223-6042.
X-ALT-DESC;FMTTYPE=text/html:<div>2nd Annual Mother-To-Mother Ministry Fundraiser</div><div>&quot\;A Night of Pampering with a Purpose&quot\;</div><div>&nbsp\;</div><div>hosted by Beatrice Family Chiropractic</div><div>&nbsp\;</div><div>Thursday\, May 6</div><div>6 pm - 8 pm</div><div>2526 East Court Street</div><div>&nbsp\;</div><div>All proceeds benefit Mother-To-Mother Ministry.</div><div>&nbsp\;</div><div>$5 donation includes treatment\, tips and tools needed for relaxing and rejuvinating evening from some of the area's premier product and service providers.</div><div>&nbsp\;</div><div>First 50 attendees will receive a gift bag with pampering supplies.&nbsp\; For more information or to purchase tickets\, contact Beatrice Family Chiropractic at 228-2777 or Mother--To-Mother Ministry/Burwood Books at 223-6042.</div>
LOCATION:
UID:e.41.1969
SEQUENCE:3
DTSTAMP:20260425T122742Z
URL:https://business.beatricechamber.com/events/details/mother-to-mother-fundraiser-05-06-2010-1969
END:VEVENT

END:VCALENDAR
