BEGIN:VCALENDAR
VERSION:2.0
PRODID:-//ChamberMaster//Event Calendar 2.0//EN
METHOD:PUBLISH
X-PUBLISHED-TTL:P3D
REFRESH-INTERVAL:P3D
CALSCALE:GREGORIAN
BEGIN:VEVENT
DTSTART:20110430T130000Z
DTEND:20110430T210000Z
X-MICROSOFT-CDO-ALLDAYEVENT:FALSE
SUMMARY:Mother-TO-Mother Ministry Bake Sale & Garage Sale
DESCRIPTION:Donated Items may be delivered from 7am-9am - Please price your garage sale items!\n\n\n\nYour purchases will help fund the programs Mother to Mother offers\n\nHelping so many mothers and families in need of emotional support
X-ALT-DESC;FMTTYPE=text/html:Donated Items may be delivered from 7am-9am - Please price your garage sale items!<br />\n<br />\nYour purchases will help fund the programs Mother to Mother offers<br />\nHelping so many mothers and families in need of emotional support<br />\n<br />\n
LOCATION:4-H Building at the Gage County Fairgrounds on teh West side of Beatrice
UID:e.41.4552
SEQUENCE:3
DTSTAMP:20260424T195620Z
URL:https://business.beatricechamber.com/events/details/mother-to-mother-ministry-bake-sale-garage-sale-04-30-2011-4552
END:VEVENT

END:VCALENDAR
