BEGIN:VCALENDAR
VERSION:2.0
PRODID:-//ChamberMaster//Event Calendar 2.0//EN
METHOD:PUBLISH
X-PUBLISHED-TTL:P3D
REFRESH-INTERVAL:P3D
CALSCALE:GREGORIAN
BEGIN:VEVENT
DTSTART:20090809T180000Z
DTEND:20090810T000000Z
X-MICROSOFT-CDO-ALLDAYEVENT:FALSE
SUMMARY:Music\, Fun\, Friends & Good Times at BSDC
DESCRIPTION:The residents and staff of Beatrice State Developmental Centerinvite you to this FREE Music\, Fun\, Friends and Good Times Event! Join us on the south grassy area of BSDCSunday\, August 9th1:00 - 7:00 pm Concessions will be available.
X-ALT-DESC;FMTTYPE=text/html:<div>The residents and staff of Beatrice State Developmental Center</div><div>invite you to this FREE Music\, Fun\, Friends and Good Times Event!</div><div>&nbsp\;</div><div>Join us on the south grassy area of BSDC</div><div>Sunday\, August 9th</div><div>1:00 - 7:00 pm</div><div>&nbsp\;</div><div>Concessions will be available.</div>
LOCATION:
UID:e.41.1314
SEQUENCE:3
DTSTAMP:20260426T012144Z
URL:https://business.beatricechamber.com/events/details/music-fun-friends-good-times-at-bsdc-08-09-2009-1314
END:VEVENT

END:VCALENDAR
