BEGIN:VCALENDAR
VERSION:2.0
PRODID:-//ChamberMaster//Event Calendar 2.0//EN
METHOD:PUBLISH
X-PUBLISHED-TTL:P3D
REFRESH-INTERVAL:P3D
CALSCALE:GREGORIAN
BEGIN:VEVENT
DTSTART;VALUE=DATE:20120306
DTEND;VALUE=DATE:20120307
TRANSP:TRANSPARENT
X-MICROSOFT-CDO-ALLDAYEVENT:TRUE
SUMMARY:Musical\, "Movin' in the Right Direction!'
DESCRIPTION:7 p.m.\, Beatrice High School Hevelone Center for Fine Arts\, 600 Blvd\,. performed by Lincoln Elementary fourth and fifth grade students
X-ALT-DESC;FMTTYPE=text/html:7 p.m.\, Beatrice High School Hevelone Center for Fine Arts\, 600 Blvd\,. performed by Lincoln Elementary fourth and fifth grade students
LOCATION:
UID:e.41.5386
SEQUENCE:3
DTSTAMP:20260422T173148Z
URL:https://business.beatricechamber.com/events/details/musical-movin-in-the-right-direction-03-06-2012-5386
END:VEVENT

END:VCALENDAR
