BEGIN:VCALENDAR
VERSION:2.0
PRODID:-//ChamberMaster//Event Calendar 2.0//EN
METHOD:PUBLISH
X-PUBLISHED-TTL:P3D
REFRESH-INTERVAL:P3D
CALSCALE:GREGORIAN
BEGIN:VEVENT
DTSTART;VALUE=DATE:20110418
DTEND;VALUE=DATE:20110419
TRANSP:TRANSPARENT
X-MICROSOFT-CDO-ALLDAYEVENT:TRUE
SUMMARY:Musical Production
DESCRIPTION:The Lincoln and Cedar School kidergarten\, first\, second and third grade students are preparing for their upcoming music programs.\n\n\n\n"America\, I Hear You Singing" will be performed by Lincoln students on Monday\, April 18\, and by   Cedar students  on Tuesday\, April 19. \n\n\n\nBoth shows will be held at Beatrice High School Hevelone Center for Performing Arts at 7 p.m.
X-ALT-DESC;FMTTYPE=text/html:The Lincoln and Cedar School kidergarten\, first\, second and third grade students are preparing for their upcoming music programs.<br />\n<br />\n&quot\;America\, I Hear You Singing&quot\; will be performed by <strong><u>Lincoln students</u></strong> on <strong><u>Monday\, April 18</u></strong>\, and by <span _fck_bookmark="1" style="display: none\;">&nbsp\;</span><span _fck_bookmark="1" style="display: none\;">&nbsp\;</span><u><strong>Cedar students</strong></u><span _fck_bookmark="1" style="display: none\;">&nbsp\;</span> on <strong><u>Tuesday\, April 19</u></strong>.<span _fck_bookmark="1" style="display: none\;">&nbsp\;</span><br />\n<br />\nBoth shows will be held at <em><strong>Beatrice High School Hevelone Center for Performing Arts at 7 p.m.</strong></em>
LOCATION:
UID:e.41.4553
SEQUENCE:3
DTSTAMP:20260424T195034Z
URL:https://business.beatricechamber.com/events/details/musical-production-04-18-2011-4553
END:VEVENT

END:VCALENDAR
