BEGIN:VCALENDAR
VERSION:2.0
PRODID:-//ChamberMaster//Event Calendar 2.0//EN
METHOD:PUBLISH
X-PUBLISHED-TTL:P3D
REFRESH-INTERVAL:P3D
CALSCALE:GREGORIAN
BEGIN:VEVENT
DTSTART;VALUE=DATE:20110308
DTEND;VALUE=DATE:20110309
TRANSP:TRANSPARENT
X-MICROSOFT-CDO-ALLDAYEVENT:TRUE
SUMMARY:Musical: "Proud to Be American"
DESCRIPTION:Starts at 7 p.m.\n\n\n\nLocation: Hevelone Center for Performing Arts\, Beatrice High School\n\n\n\nPresented by Cedar Elementary fourth and fifth grade students
X-ALT-DESC;FMTTYPE=text/html:Starts at 7 p.m.<br />\n<br />\nLocation: Hevelone Center for Performing Arts\, Beatrice High School<br />\n<br />\nPresented by Cedar Elementary fourth and fifth grade students&nbsp\; 
LOCATION:
UID:e.41.4214
SEQUENCE:3
DTSTAMP:20260424T212441Z
URL:https://business.beatricechamber.com/events/details/musical-proud-to-be-american-03-08-2011-4214
END:VEVENT

END:VCALENDAR
