BEGIN:VCALENDAR
VERSION:2.0
PRODID:-//ChamberMaster//Event Calendar 2.0//EN
METHOD:PUBLISH
X-PUBLISHED-TTL:P3D
REFRESH-INTERVAL:P3D
CALSCALE:GREGORIAN
BEGIN:VEVENT
DTSTART;VALUE=DATE:20111001
DTEND;VALUE=DATE:20111031
TRANSP:TRANSPARENT
X-MICROSOFT-CDO-ALLDAYEVENT:TRUE
SUMMARY:National Disability Employment Awareness Month
DESCRIPTION:Mosaic in Beatrice recognizes October as National Disability Employment Awareness Month.\n\n\n\nPart of the American Dream is having a job and earning money. Find out how you can help a person with an intellectual or developmental disability live this dream by visiting www.mosaicinfo.org.\n\n\n\nNeed a reason to employ a person with a disability? Research consistently shows that employers report equal or better safety records\, turnover and absentee rates\, job performance ratings\, job assignment flexibility and equal amount of supervision required for employees with disabilites as compared to their non-disabled peers.
X-ALT-DESC;FMTTYPE=text/html:Mosaic in Beatrice recognizes October as National Disability Employment Awareness Month.<br />\n<br />\nPart of the American Dream is having a job and earning money. Find out how you can help a person with an intellectual or developmental disability live this dream by visiting www.mosaicinfo.org.<br />\n<br />\nNeed a reason to employ a person with a disability? Research consistently shows that employers report equal or better safety records\, turnover and absentee rates\, job performance ratings\, job assignment flexibility and equal amount of supervision required for employees with disabilites as compared to their non-disabled peers.
LOCATION:
UID:e.41.5130
SEQUENCE:3
DTSTAMP:20260424T111544Z
URL:https://business.beatricechamber.com/events/details/national-disability-employment-awareness-month-10-01-2011-5130
END:VEVENT

END:VCALENDAR
