BEGIN:VCALENDAR
VERSION:2.0
PRODID:-//ChamberMaster//Event Calendar 2.0//EN
METHOD:PUBLISH
X-PUBLISHED-TTL:P3D
REFRESH-INTERVAL:P3D
CALSCALE:GREGORIAN
BEGIN:VEVENT
DTSTART:20110423T180000Z
DTEND:20110423T200000Z
X-MICROSOFT-CDO-ALLDAYEVENT:FALSE
SUMMARY:National Junior Ranger Day
DESCRIPTION:National Junior Ranger Day\n\n\n\nSaturday\, April 23\n\n1 - 3 pm\n\n\n\nHomestead National Monument of America\n\n\n\nKids of all ages invited to participate in school yard games at the Homestead's Freeman School.\n\n402-223-3514 or www.nps.gov/home
X-ALT-DESC;FMTTYPE=text/html:National Junior Ranger Day<br />\n<br />\nSaturday\, April 23<br />\n1 - 3 pm<br />\n<br />\nHomestead National Monument of America<br />\n<br />\nKids of all ages invited to participate in school yard games at the Homestead&#39\;s Freeman School.<br />\n402-223-3514 or <a href="http://www.nps.gov/home">www.nps.gov/home</a>
LOCATION:
UID:e.41.4598
SEQUENCE:3
DTSTAMP:20260424T195138Z
URL:https://business.beatricechamber.com/events/details/national-junior-ranger-day-04-23-2011-4598
END:VEVENT

END:VCALENDAR
