BEGIN:VCALENDAR
VERSION:2.0
PRODID:-//ChamberMaster//Event Calendar 2.0//EN
METHOD:PUBLISH
X-PUBLISHED-TTL:P3D
REFRESH-INTERVAL:P3D
CALSCALE:GREGORIAN
BEGIN:VEVENT
DTSTART;VALUE=DATE:20101116
DTEND;VALUE=DATE:20101117
TRANSP:TRANSPARENT
X-MICROSOFT-CDO-ALLDAYEVENT:TRUE
SUMMARY:National Management Association Fall Conference
DESCRIPTION:National Management Association Fall Conference:\n\n\n\n12:30 p.m. registration\; 1 p.m. first session\, Beatrice Public Library Norva Price Room. Jenni Reling of Jeni Reling  Seminars\, Beloit\, Kan.: " Becoming an Effective Leader and Creating\n\nan  Extraordinarily Positive Workplace."\n\n\n\nCost: free to NMA members\; $25 for nonmembers. Businesses can send as many employees they want for $100. To pre-register\, call Marian DeBuhr\, 223-6016. Registrations also acccepted at th door. Open to the public.
X-ALT-DESC;FMTTYPE=text/html:<strong><span style="font-size: 14px">National Management Association Fall Conference:</span></strong><br />\n<br />\n12:30 p.m. registration\; 1 p.m. first session\, Beatrice Public Library Norva Price Room. Jenni Reling of Jeni Reling&nbsp\; Seminars\, Beloit\, Kan.: &quot\; Becoming an Effective Leader and Creating<br />\nan &nbsp\;Extraordinarily Positive Workplace.&quot\;<br />\n<br />\nCost: free to NMA members\; $25 for nonmembers. Businesses can send as many employees they want for $100. To pre-register\, call Marian DeBuhr\, 223-6016. Registrations also acccepted at th door. Open to the public.
LOCATION:
UID:e.41.2829
SEQUENCE:3
DTSTAMP:20260425T032509Z
URL:https://business.beatricechamber.com/events/details/national-management-association-fall-conference-11-16-2010-2829
END:VEVENT

END:VCALENDAR
