BEGIN:VCALENDAR
VERSION:2.0
PRODID:-//ChamberMaster//Event Calendar 2.0//EN
METHOD:PUBLISH
X-PUBLISHED-TTL:P3D
REFRESH-INTERVAL:P3D
CALSCALE:GREGORIAN
BEGIN:VEVENT
DTSTART;VALUE=DATE:20110802
DTEND;VALUE=DATE:20110803
TRANSP:TRANSPARENT
X-MICROSOFT-CDO-ALLDAYEVENT:TRUE
SUMMARY:National Night Out
DESCRIPTION:This is the 6th annual event for the Wymore Area.  There will be free pop\, popcorn\, ice cream\, and watermelon in the Arbor State Park.  Bring the family\, have fun\, meet your neighbors\, and learn how to keep your identity safe\, your community safe\, and keep scams from happening to you.\n\n\n\nThere will be live music provided by Blue River Boys\, scam demonstration\, jaws of life rescue demonstrations at 7:30 p.m.\, Smoke Room\, McGruff the Crime Dog\, rollover car sponsored by the state patrol\, make and take sponsored by Good Night Peanuts\, bingo and sponge toss\, Dogs Deserve Better Fraud Booth by Attorney General\, rock wall and basketball shoot\, farmers market and lots more.  Free swim at the pool from 8:30-10:30 p.m.
X-ALT-DESC;FMTTYPE=text/html:This is the 6th annual event for the Wymore Area.&nbsp\; There will be free pop\, popcorn\, ice cream\, and watermelon in the Arbor State Park.&nbsp\; Bring the family\, have fun\, meet your neighbors\, and learn how to keep your identity safe\, your community safe\, and keep scams from happening to you.<br />\n<br />\nThere will be live music provided by Blue River Boys\, scam demonstration\, jaws of life rescue demonstrations at 7:30 p.m.\, Smoke Room\, McGruff the Crime Dog\, rollover car sponsored by the state patrol\, make and take sponsored by Good Night Peanuts\, bingo and sponge toss\, Dogs Deserve Better Fraud Booth by Attorney General\, rock wall and basketball shoot\, farmers market and lots more.&nbsp\; Free swim at the pool from 8:30-10:30 p.m.
LOCATION:
UID:e.41.4984
SEQUENCE:3
DTSTAMP:20260424T134411Z
URL:https://business.beatricechamber.com/events/details/national-night-out-08-02-2011-4984
END:VEVENT

END:VCALENDAR
