BEGIN:VCALENDAR
VERSION:2.0
PRODID:-//ChamberMaster//Event Calendar 2.0//EN
METHOD:PUBLISH
X-PUBLISHED-TTL:P3D
REFRESH-INTERVAL:P3D
CALSCALE:GREGORIAN
BEGIN:VEVENT
DTSTART;VALUE=DATE:20120421
DTEND;VALUE=DATE:20120430
TRANSP:TRANSPARENT
X-MICROSOFT-CDO-ALLDAYEVENT:TRUE
SUMMARY:National Park Week
DESCRIPTION:Each year National Park Services sites celebrate National Park Week. Check our website for  more details!
X-ALT-DESC;FMTTYPE=text/html:Each year National Park Services sites celebrate National Park Week. Check our website for&nbsp\; more details!
LOCATION:Homestead National Monument of America
UID:e.41.5345
SEQUENCE:3
DTSTAMP:20260422T154535Z
URL:https://business.beatricechamber.com/events/details/national-park-week-04-21-2012-5345
END:VEVENT

END:VCALENDAR
