BEGIN:VCALENDAR
VERSION:2.0
PRODID:-//ChamberMaster//Event Calendar 2.0//EN
METHOD:PUBLISH
X-PUBLISHED-TTL:P3D
REFRESH-INTERVAL:P3D
CALSCALE:GREGORIAN
BEGIN:VEVENT
DTSTART;VALUE=DATE:20110418
DTEND;VALUE=DATE:20110423
TRANSP:TRANSPARENT
X-MICROSOFT-CDO-ALLDAYEVENT:TRUE
SUMMARY:National Parks Week at Homestead National Monument
DESCRIPTION:Celebrate National Parks Week at Homestead National Monument of America\n\n\n\nExplore different National Parks each day at 2 p.m.\, Mon-Fri\, April 18-22\, at the Homestead Education Center. \n\n\n\nFor more information\, contact Homestead National Monument of America or visit www.nps.gov/home
X-ALT-DESC;FMTTYPE=text/html:Celebrate National Parks Week at Homestead National Monument of America<br />\n<br />\nExplore different National Parks each day at 2 p.m.\, Mon-Fri\, April 18-22\, at the Homestead Education Center.&nbsp\;<br />\n<br />\nFor more information\, contact Homestead National Monument of America or visit www.nps.gov/home<br />\n
LOCATION:
UID:e.41.4582
SEQUENCE:3
DTSTAMP:20260424T195448Z
URL:https://business.beatricechamber.com/events/details/national-parks-week-at-homestead-national-monument-04-18-2011-4582
END:VEVENT

END:VCALENDAR
