BEGIN:VCALENDAR
VERSION:2.0
PRODID:-//ChamberMaster//Event Calendar 2.0//EN
METHOD:PUBLISH
X-PUBLISHED-TTL:P3D
REFRESH-INTERVAL:P3D
CALSCALE:GREGORIAN
BEGIN:VEVENT
DTSTART;VALUE=DATE:20120415
DTEND;VALUE=DATE:20120422
TRANSP:TRANSPARENT
X-MICROSOFT-CDO-ALLDAYEVENT:TRUE
SUMMARY:National Volunteer Week
DESCRIPTION:Blue Valley Community Action Partnership (BVCA) will pay special tribute to its volunteers and to encourage others to become involved in their communities.
X-ALT-DESC;FMTTYPE=text/html:Blue Valley Community Action Partnership (BVCA) will pay special tribute&nbsp\;to its volunteers and to encourage others to become involved in their communities.&nbsp\;
LOCATION:
UID:e.41.5465
SEQUENCE:3
DTSTAMP:20260422T154654Z
URL:https://business.beatricechamber.com/events/details/national-volunteer-week-04-15-2012-5465
END:VEVENT

END:VCALENDAR
